BEGIN:VCALENDAR
VERSION:2.0
PRODID:-//University of Maryland Honors College - ECPv6.15.20//NONSGML v1.0//EN
CALSCALE:GREGORIAN
METHOD:PUBLISH
X-WR-CALNAME:University of Maryland Honors College
X-ORIGINAL-URL:https://honors.umd.edu
X-WR-CALDESC:Events for University of Maryland Honors College
REFRESH-INTERVAL;VALUE=DURATION:PT1H
X-Robots-Tag:noindex
X-PUBLISHED-TTL:PT1H
BEGIN:VTIMEZONE
TZID:America/New_York
BEGIN:DAYLIGHT
TZOFFSETFROM:-0500
TZOFFSETTO:-0400
TZNAME:EDT
DTSTART:20210314T070000
END:DAYLIGHT
BEGIN:STANDARD
TZOFFSETFROM:-0400
TZOFFSETTO:-0500
TZNAME:EST
DTSTART:20211107T060000
END:STANDARD
BEGIN:DAYLIGHT
TZOFFSETFROM:-0500
TZOFFSETTO:-0400
TZNAME:EDT
DTSTART:20220313T070000
END:DAYLIGHT
BEGIN:STANDARD
TZOFFSETFROM:-0400
TZOFFSETTO:-0500
TZNAME:EST
DTSTART:20221106T060000
END:STANDARD
BEGIN:DAYLIGHT
TZOFFSETFROM:-0500
TZOFFSETTO:-0400
TZNAME:EDT
DTSTART:20230312T070000
END:DAYLIGHT
BEGIN:STANDARD
TZOFFSETFROM:-0400
TZOFFSETTO:-0500
TZNAME:EST
DTSTART:20231105T060000
END:STANDARD
END:VTIMEZONE
BEGIN:VEVENT
DTSTART;TZID=America/New_York:20220923T110000
DTEND;TZID=America/New_York:20220923T160000
DTSTAMP:20260425T064455
CREATED:20220920T015304Z
LAST-MODIFIED:20220920T141352Z
UID:2695-1663930800-1663948800@honors.umd.edu
SUMMARY:Large Fall Career & Internship Fair (virtual)
DESCRIPTION:The Large Fall Career & Internship Fair will take place virtually on Careers4Terps on September 23 and in person in the Stamp (September 28-30) from 11 a.m. to 4 p.m. With some exceptions noted below\, many of the employers of interest to ARHU students will be found on September 23 (virtual) and September 30 (in person). \nHere is a sampling of organizations looking to hire ARHU students. Access more fair details and the full list of employers here (Please always double-check the information shared below via this link as employers may switch days). \nEmployer/Open Positions/Fair Attendance Date (as of Sept. 12- check the link above for the most updated list): \n\nAccenture: Consulting roles\, 9/30\nCASA: Americorps Immigrant Integration & Youth Development Specialist\, 9/30\nCIA: Internships & full-time roles\, 9/30\nCreative Associates International: Learn more\, 9/23\nDeloitte: Internships & full-time roles\, 9/23\nDIA: Intelligence positions\, 9/28\nEnd Citizens United/Let America Vote: Internships (comm\, advocacy\, political)\, 9/30\nFBI: Special Agent\, Intel Analyst\, etc. 9/23\nGallup: Business Development Consulting Research\, 9/30\nGovernment Accountability Office (GAO)\, Analyst\, 9/28\nHilton: Interns & Management Development Program\, 9/30\nICF: Intern & Full-time Roles (energy\, climate\, marketing\, etc.)\, 9/29\nInternational Council on Clean Transportation: Research\, Communication\, U.S./China Fellowship\, 9/29\nKennedy Krieger Institute: Clinical Assistants\, Teachers\, Research\, 9/30\nKohls: Leadership Management Intern\, 9/30\nManTech International: Technical Writing & Project Coordination Interns\, 9/29\nMaximus: Digital UX/UI Interns\, 9/38\nMicron Technology: Technical Writer\, 9/30\nNational Security Agency (NSA): https://apply.intelligencecareers.gov/job-listings?agency=NSA\, 9/28 & 9/29\nORISE: Research internships & fellowships\, 9/23\nSEO Career: Paid Summer Diversity Internships\, 9/23\nSmithsonian National Air & Space Museum: Explainer/Museum Guide\, 9/23\nSTART Program: Internships\, 9/30\nTeach for America: Ignite Fellowship\, Americorps Member\, 9/30\nThe Bozzuto Group: Sales & Marketing (Intern & Full-time)\, 9/23\nThe National Endowment for Democracy: Library Assistant\, 9/23\nTata Consultancy Services: Copywriter\, HR\, Legal Assistant\, etc.\, 9/29\nThe Fund for American Studies: Academic Internship Program\, 9/30\nU.S. Department of State: Informational Management Specialist\, 9/23\nVoice of America: Internships\, 9/23\n\nDepending on your interests\, you may also be interested in attending the upcoming Language Career & Internship Fair on October 26 from 12 to 4 p.m. in the Stamp Student Union. More info about that fair can be found here. Please note they also host in the spring a Performing Arts Fair (February) and Visual Arts Fair (March). \nPrepare Your Resume for Fall Career Events!\nIs your resume ready? If your resume could use some polishing\, connect with the University Career Center @ ARHU in one of the ways below: \n\nSchedule a career advising appointment through Careers4Terps: careers.umd.edu/careers4terps and look for Caroline Bodnar or Kate Juhl on the list of advisors\nUse their virtual resume drop. Submit your resume via go.umd.edu/arhurdf20 and expect feedback via email within 3-5 business days
URL:https://honors.umd.edu/event/2022/large-fall-career-internship-fair-virtual/
LOCATION:Online
CATEGORIES:Job & Internship Fairs
ATTACH;FMTTYPE=image/png:https://honors.umd.edu/wp-content/uploads/2022/09/FCIF-Image.png
END:VEVENT
END:VCALENDAR