BEGIN:VCALENDAR
VERSION:2.0
PRODID:-//University of Maryland Honors College - ECPv6.15.20//NONSGML v1.0//EN
CALSCALE:GREGORIAN
METHOD:PUBLISH
X-ORIGINAL-URL:https://honors.umd.edu
X-WR-CALDESC:Events for University of Maryland Honors College
REFRESH-INTERVAL;VALUE=DURATION:PT1H
X-Robots-Tag:noindex
X-PUBLISHED-TTL:PT1H
BEGIN:VTIMEZONE
TZID:America/New_York
BEGIN:DAYLIGHT
TZOFFSETFROM:-0500
TZOFFSETTO:-0400
TZNAME:EDT
DTSTART:20250309T070000
END:DAYLIGHT
BEGIN:STANDARD
TZOFFSETFROM:-0400
TZOFFSETTO:-0500
TZNAME:EST
DTSTART:20251102T060000
END:STANDARD
BEGIN:DAYLIGHT
TZOFFSETFROM:-0500
TZOFFSETTO:-0400
TZNAME:EDT
DTSTART:20260308T070000
END:DAYLIGHT
BEGIN:STANDARD
TZOFFSETFROM:-0400
TZOFFSETTO:-0500
TZNAME:EST
DTSTART:20261101T060000
END:STANDARD
BEGIN:DAYLIGHT
TZOFFSETFROM:-0500
TZOFFSETTO:-0400
TZNAME:EDT
DTSTART:20270314T070000
END:DAYLIGHT
BEGIN:STANDARD
TZOFFSETFROM:-0400
TZOFFSETTO:-0500
TZNAME:EST
DTSTART:20271107T060000
END:STANDARD
END:VTIMEZONE
BEGIN:VEVENT
DTSTART;TZID=America/New_York:20260424T163000
DTEND;TZID=America/New_York:20260424T180000
DTSTAMP:20260423T134150
CREATED:20260115T182400Z
LAST-MODIFIED:20260420T160759Z
UID:8423-1777048200-1777053600@honors.umd.edu
SUMMARY:Honors Citation Ceremony - Spring 2026
DESCRIPTION:Our Spring 2026 Citation Ceremony takes place at the UMD Memorial Chapel from 4:30 to 6 p.m.
URL:https://honors.umd.edu/event/2026/honors-citation-ceremony-spring-2026/
LOCATION:UMD Memorial Chapel\, 7744 Regents Dr\, College Park\, MD\, 20742\, United States
CATEGORIES:Honors Ceremonies
ATTACH;FMTTYPE=image/jpeg:https://honors.umd.edu/wp-content/uploads/2024/07/Citation-Ceremony-Spring-2024-Amina-Lampkin.jpg
END:VEVENT
BEGIN:VEVENT
DTSTART;TZID=America/New_York:20260506T140000
DTEND;TZID=America/New_York:20260506T160000
DTSTAMP:20260423T134150
CREATED:20260115T182807Z
LAST-MODIFIED:20260408T160152Z
UID:8427-1778076000-1778083200@honors.umd.edu
SUMMARY:Honors Awards Ceremony - Spring 2026
DESCRIPTION:Our Spring 2026 Honors Awards Ceremony takes place at the Stamp Atrium from 2 to 4 p.m. Friends and family are invited to join us via livestream (link coming soon).
URL:https://honors.umd.edu/event/2026/honors-awards-ceremony-spring-2026/
LOCATION:Stamp Student Union\, Stamp Student Union\, College Park\, MD\, 20742\, United States
CATEGORIES:Honors Ceremonies
ATTACH;FMTTYPE=image/jpeg:https://honors.umd.edu/wp-content/uploads/2025/05/2025-05-15-Ally-Rizzo-UGST-award-web.jpg
END:VEVENT
BEGIN:VEVENT
DTSTART;TZID=America/New_York:20261113T163000
DTEND;TZID=America/New_York:20261113T180000
DTSTAMP:20260423T134150
CREATED:20260115T182516Z
LAST-MODIFIED:20260115T182624Z
UID:8425-1794587400-1794592800@honors.umd.edu
SUMMARY:Honors Citation Ceremony - Fall 2026
DESCRIPTION:Our Fall 2026 Citation Ceremony takes place at the UMD Memorial Chapel from 4:30 to 6 p.m.
URL:https://honors.umd.edu/event/2026/honors-citation-ceremony-fall-2026/
LOCATION:UMD Memorial Chapel\, 7744 Regents Dr\, College Park\, MD\, 20742\, United States
CATEGORIES:Honors Ceremonies
ATTACH;FMTTYPE=image/jpeg:https://honors.umd.edu/wp-content/uploads/2024/07/Citation-Ceremony-Spring-2024-Amina-Lampkin.jpg
END:VEVENT
END:VCALENDAR