BEGIN:VCALENDAR
VERSION:2.0
PRODID:-//University of Maryland Honors College - ECPv6.15.20//NONSGML v1.0//EN
CALSCALE:GREGORIAN
METHOD:PUBLISH
X-ORIGINAL-URL:https://honors.umd.edu
X-WR-CALDESC:Events for University of Maryland Honors College
REFRESH-INTERVAL;VALUE=DURATION:PT1H
X-Robots-Tag:noindex
X-PUBLISHED-TTL:PT1H
BEGIN:VTIMEZONE
TZID:America/New_York
BEGIN:DAYLIGHT
TZOFFSETFROM:-0500
TZOFFSETTO:-0400
TZNAME:EDT
DTSTART:20210314T070000
END:DAYLIGHT
BEGIN:STANDARD
TZOFFSETFROM:-0400
TZOFFSETTO:-0500
TZNAME:EST
DTSTART:20211107T060000
END:STANDARD
BEGIN:DAYLIGHT
TZOFFSETFROM:-0500
TZOFFSETTO:-0400
TZNAME:EDT
DTSTART:20220313T070000
END:DAYLIGHT
BEGIN:STANDARD
TZOFFSETFROM:-0400
TZOFFSETTO:-0500
TZNAME:EST
DTSTART:20221106T060000
END:STANDARD
BEGIN:DAYLIGHT
TZOFFSETFROM:-0500
TZOFFSETTO:-0400
TZNAME:EDT
DTSTART:20230312T070000
END:DAYLIGHT
BEGIN:STANDARD
TZOFFSETFROM:-0400
TZOFFSETTO:-0500
TZNAME:EST
DTSTART:20231105T060000
END:STANDARD
BEGIN:DAYLIGHT
TZOFFSETFROM:-0500
TZOFFSETTO:-0400
TZNAME:EDT
DTSTART:20240310T070000
END:DAYLIGHT
BEGIN:STANDARD
TZOFFSETFROM:-0400
TZOFFSETTO:-0500
TZNAME:EST
DTSTART:20241103T060000
END:STANDARD
BEGIN:DAYLIGHT
TZOFFSETFROM:-0500
TZOFFSETTO:-0400
TZNAME:EDT
DTSTART:20250309T070000
END:DAYLIGHT
BEGIN:STANDARD
TZOFFSETFROM:-0400
TZOFFSETTO:-0500
TZNAME:EST
DTSTART:20251102T060000
END:STANDARD
BEGIN:DAYLIGHT
TZOFFSETFROM:-0500
TZOFFSETTO:-0400
TZNAME:EDT
DTSTART:20260308T070000
END:DAYLIGHT
BEGIN:STANDARD
TZOFFSETFROM:-0400
TZOFFSETTO:-0500
TZNAME:EST
DTSTART:20261101T060000
END:STANDARD
END:VTIMEZONE
BEGIN:VEVENT
DTSTART;TZID=America/New_York:20251114T163000
DTEND;TZID=America/New_York:20251114T163000
DTSTAMP:20260423T152632
CREATED:20251111T171118Z
LAST-MODIFIED:20251111T171242Z
UID:8274-1763137800-1763137800@honors.umd.edu
SUMMARY:Honors Citation Ceremony - Fall 2025
DESCRIPTION:Our Fall 2025 Citation Ceremony takes place at the UMD Memorial Chapel at 4:30 p.m. \nView the program here.
URL:https://honors.umd.edu/event/2025/honors-citation-ceremony-fall-2025/
LOCATION:UMD Memorial Chapel\, 7744 Regents Dr\, College Park\, MD\, 20742\, United States
CATEGORIES:Honors Ceremonies
ATTACH;FMTTYPE=image/jpeg:https://honors.umd.edu/wp-content/uploads/2024/07/Citation-Ceremony-Spring-2024-Amina-Lampkin.jpg
END:VEVENT
BEGIN:VEVENT
DTSTART;TZID=America/New_York:20250829T110000
DTEND;TZID=America/New_York:20250829T123000
DTSTAMP:20260423T152632
CREATED:20250828T163655Z
LAST-MODIFIED:20250828T163655Z
UID:7681-1756465200-1756470600@honors.umd.edu
SUMMARY:Honors Convocation 2025
DESCRIPTION:Incoming first-year Honors students are invited to join us on Friday\, August 29 for our annual Honors Convocation. All first-year Honors students will receive an email with details about the ceremony.
URL:https://honors.umd.edu/event/2025/honors-convocation-2025/
LOCATION:Dekelboum Concert Hall\, The Clarice Smith Performing Arts Center\, College Park\, MD\, 20742\, United States
CATEGORIES:Honors Ceremonies
ATTACH;FMTTYPE=image/jpeg:https://honors.umd.edu/wp-content/uploads/2022/09/Convocation-2022-2.jpg
END:VEVENT
BEGIN:VEVENT
DTSTART;TZID=America/New_York:20250425T163000
DTEND;TZID=America/New_York:20250425T180000
DTSTAMP:20260423T152632
CREATED:20250127T171155Z
LAST-MODIFIED:20250418T130941Z
UID:6420-1745598600-1745604000@honors.umd.edu
SUMMARY:Honors Citation Ceremony - Spring 2025
DESCRIPTION:Our Spring 2025 Citation Ceremony takes place at the UMD Memorial Chapel from 4:30 to 6 p.m. \nView the program here.
URL:https://honors.umd.edu/event/2025/honors-citation-ceremony-spring-2025/
LOCATION:UMD Memorial Chapel\, 7744 Regents Dr\, College Park\, MD\, 20742\, United States
CATEGORIES:Honors Ceremonies
ATTACH;FMTTYPE=image/jpeg:https://honors.umd.edu/wp-content/uploads/2024/07/Citation-Ceremony-Spring-2024-Amina-Lampkin.jpg
END:VEVENT
BEGIN:VEVENT
DTSTART;TZID=America/New_York:20241115T163000
DTEND;TZID=America/New_York:20241115T180000
DTSTAMP:20260423T152632
CREATED:20241022T142012Z
LAST-MODIFIED:20250127T171406Z
UID:6133-1731688200-1731693600@honors.umd.edu
SUMMARY:Honors Citation Ceremony - Fall 2024
DESCRIPTION:Our Fall 2024 Citation Ceremony will take place at the UMD Memorial Chapel from 4:30 to 6 p.m. \nProgram is available here.
URL:https://honors.umd.edu/event/2024/honors-citation-ceremony-fall-2024/
LOCATION:UMD Memorial Chapel\, 7744 Regents Dr\, College Park\, MD\, 20742\, United States
CATEGORIES:Honors Ceremonies
ATTACH;FMTTYPE=image/jpeg:https://honors.umd.edu/wp-content/uploads/2024/07/Citation-Ceremony-Spring-2024-Amina-Lampkin.jpg
END:VEVENT
BEGIN:VEVENT
DTSTART;TZID=America/New_York:20240822T193000
DTEND;TZID=America/New_York:20240822T210000
DTSTAMP:20260423T152632
CREATED:20240730T135439Z
LAST-MODIFIED:20240821T145207Z
UID:5543-1724355000-1724360400@honors.umd.edu
SUMMARY:Honors Convocation 2024
DESCRIPTION:Incoming freshmen are invited to join us on Thursday\, August 22 for our annual Honors Convocation. All freshmen will receive an email with details about the ceremony.
URL:https://honors.umd.edu/event/2024/honors-convocation-2024/
LOCATION:Dekelboum Concert Hall\, The Clarice Smith Performing Arts Center\, College Park\, MD\, 20742\, United States
CATEGORIES:Honors Ceremonies
ATTACH;FMTTYPE=image/jpeg:https://honors.umd.edu/wp-content/uploads/2022/09/Convocation-2022-2.jpg
END:VEVENT
BEGIN:VEVENT
DTSTART;TZID=America/New_York:20240426T163000
DTEND;TZID=America/New_York:20240426T180000
DTSTAMP:20260423T152632
CREATED:20240209T142302Z
LAST-MODIFIED:20240415T171208Z
UID:4884-1714149000-1714154400@honors.umd.edu
SUMMARY:Honors Citation Ceremony - Spring 2024
DESCRIPTION:Our Spring 2024 Citation Ceremony will take place at the UMD Memorial Chapel from 4:30 to 6 p.m. \nView the program here.
URL:https://honors.umd.edu/event/2024/honors-citation-ceremony-spring-2024/
LOCATION:UMD Memorial Chapel\, 7744 Regents Dr\, College Park\, MD\, 20742\, United States
CATEGORIES:Honors Ceremonies
ATTACH;FMTTYPE=image/jpeg:https://honors.umd.edu/wp-content/uploads/2022/09/2022-04-29-Citation-Ceremony.jpg
END:VEVENT
BEGIN:VEVENT
DTSTART;TZID=America/New_York:20230824T193000
DTEND;TZID=America/New_York:20230824T203000
DTSTAMP:20260423T152632
CREATED:20230629T184444Z
LAST-MODIFIED:20230629T184444Z
UID:4014-1692905400-1692909000@honors.umd.edu
SUMMARY:Honors Convocation 2023
DESCRIPTION:Incoming freshmen are invited to join us on Thursday\, August 24 for our annual Honors Convocation. All freshmen will receive an email with details about the ceremony.
URL:https://honors.umd.edu/event/2023/honors-convocation-2023/
LOCATION:Dekelboum Concert Hall\, The Clarice Smith Performing Arts Center\, College Park\, MD\, 20742\, United States
CATEGORIES:Honors Ceremonies
ATTACH;FMTTYPE=image/jpeg:https://honors.umd.edu/wp-content/uploads/2022/09/Convocation-2022-2.jpg
END:VEVENT
BEGIN:VEVENT
DTSTART;TZID=America/New_York:20230428T163000
DTEND;TZID=America/New_York:20230428T180000
DTSTAMP:20260423T152632
CREATED:20230227T162715Z
LAST-MODIFIED:20230426T131420Z
UID:3582-1682699400-1682704800@honors.umd.edu
SUMMARY:Honors Citation Ceremony - Spring 2023
DESCRIPTION:Our Spring 2023 Citation Ceremony will take place at the UMD Memorial Chapel from 4:30 to 6 p.m.
URL:https://honors.umd.edu/event/2023/honors-citation-ceremony-spring-2023/
LOCATION:UMD Memorial Chapel\, 7744 Regents Dr\, College Park\, MD\, 20742\, United States
CATEGORIES:Honors Ceremonies
ATTACH;FMTTYPE=image/jpeg:https://honors.umd.edu/wp-content/uploads/2022/09/2022-04-29-Citation-Ceremony.jpg
END:VEVENT
BEGIN:VEVENT
DTSTART;TZID=America/New_York:20221117T163000
DTEND;TZID=America/New_York:20221117T180000
DTSTAMP:20260423T152632
CREATED:20220927T140448Z
LAST-MODIFIED:20221024T154500Z
UID:2811-1668702600-1668708000@honors.umd.edu
SUMMARY:Honors Citation Ceremony
DESCRIPTION:Our Fall 2022 Citation Ceremony will take place at the UMD Memorial Chapel from 4:30 to 6 p.m.
URL:https://honors.umd.edu/event/2022/honors-citation-ceremony/
LOCATION:UMD Memorial Chapel\, 7744 Regents Dr\, College Park\, MD\, 20742\, United States
CATEGORIES:Honors Ceremonies
ATTACH;FMTTYPE=image/jpeg:https://honors.umd.edu/wp-content/uploads/2022/09/2022-04-29-Citation-Ceremony.jpg
END:VEVENT
BEGIN:VEVENT
DTSTART;TZID=America/New_York:20220825T190000
DTEND;TZID=America/New_York:20220825T201500
DTSTAMP:20260423T152632
CREATED:20220712T143832Z
LAST-MODIFIED:20220927T140311Z
UID:1890-1661454000-1661458500@honors.umd.edu
SUMMARY:Honors Convocation 2022
DESCRIPTION:Incoming freshmen are invited to join us on Thursday\, August 25 for our annual Honors Convocation. All freshmen will receive an email with details about the ceremony. \nView the program
URL:https://honors.umd.edu/event/2022/convocation-2022/
LOCATION:Dekelboum Concert Hall\, The Clarice Smith Performing Arts Center\, College Park\, MD\, 20742\, United States
CATEGORIES:Honors Ceremonies
ATTACH;FMTTYPE=image/png:https://honors.umd.edu/wp-content/uploads/2022/07/Convocation-2022-graphic.png
END:VEVENT
END:VCALENDAR