BEGIN:VCALENDAR
VERSION:2.0
PRODID:-//University of Maryland Honors College - ECPv6.15.20//NONSGML v1.0//EN
CALSCALE:GREGORIAN
METHOD:PUBLISH
X-WR-CALNAME:University of Maryland Honors College
X-ORIGINAL-URL:https://honors.umd.edu
X-WR-CALDESC:Events for University of Maryland Honors College
REFRESH-INTERVAL;VALUE=DURATION:PT1H
X-Robots-Tag:noindex
X-PUBLISHED-TTL:PT1H
BEGIN:VTIMEZONE
TZID:America/New_York
BEGIN:DAYLIGHT
TZOFFSETFROM:-0500
TZOFFSETTO:-0400
TZNAME:EDT
DTSTART:20250309T070000
END:DAYLIGHT
BEGIN:STANDARD
TZOFFSETFROM:-0400
TZOFFSETTO:-0500
TZNAME:EST
DTSTART:20251102T060000
END:STANDARD
BEGIN:DAYLIGHT
TZOFFSETFROM:-0500
TZOFFSETTO:-0400
TZNAME:EDT
DTSTART:20260308T070000
END:DAYLIGHT
BEGIN:STANDARD
TZOFFSETFROM:-0400
TZOFFSETTO:-0500
TZNAME:EST
DTSTART:20261101T060000
END:STANDARD
BEGIN:DAYLIGHT
TZOFFSETFROM:-0500
TZOFFSETTO:-0400
TZNAME:EDT
DTSTART:20270314T070000
END:DAYLIGHT
BEGIN:STANDARD
TZOFFSETFROM:-0400
TZOFFSETTO:-0500
TZNAME:EST
DTSTART:20271107T060000
END:STANDARD
END:VTIMEZONE
BEGIN:VEVENT
DTSTART;TZID=America/New_York:20260407T173000
DTEND;TZID=America/New_York:20260407T200000
DTSTAMP:20260425T063921
CREATED:20260324T140831Z
LAST-MODIFIED:20260324T140831Z
UID:8717-1775583000-1775592000@honors.umd.edu
SUMMARY:Terps Under 30
DESCRIPTION:Join the University of Maryland Alumni Association and the Student Alumni Leadership Council (SALC) for Terps Under 30\, a panel-style event featuring 3 successful young alums from varying backgrounds. Catered food and beverages will be provided\, including an exclusive mocktail option\, and attendees will have the opportunity to network with the students and alums afterwards. All majors are welcome.
URL:https://honors.umd.edu/event/2026/terps-under-30/
LOCATION:Samuel Riggs IV Alumni Center\, 7801 Alumni Drive\, College Park\, MD\, 20742\, United States
CATEGORIES:Campus Groups & Activities
ATTACH;FMTTYPE=image/png:https://honors.umd.edu/wp-content/uploads/2026/03/Terps-Under-30.png
END:VEVENT
BEGIN:VEVENT
DTSTART;TZID=America/New_York:20260407T180000
DTEND;TZID=America/New_York:20260407T180000
DTSTAMP:20260425T063921
CREATED:20260324T142400Z
LAST-MODIFIED:20260324T142400Z
UID:8733-1775584800-1775584800@honors.umd.edu
SUMMARY:Elevate and Empower Networking Night (Black Honors Caucus)
DESCRIPTION:Join the Black Honors Caucus (BHC) for a night of professional connections with a plethora of UMD alumni\, faculty\, and staff. Make connections and gain valuable insights on potential career paths\, and even acquire important internship information. \nLocation: Stamp Student Union Atrium
URL:https://honors.umd.edu/event/2026/elevate-and-empower-networking-night-black-honors-caucus/
LOCATION:Stamp Student Union\, Stamp Student Union\, College Park\, MD\, 20742\, United States
CATEGORIES:Campus Groups & Activities,Honors Community Events
ATTACH;FMTTYPE=image/png:https://honors.umd.edu/wp-content/uploads/2026/03/Elevate-and-Empower-Networking-Night-Flyer.png
END:VEVENT
BEGIN:VEVENT
DTSTART;TZID=America/New_York:20260413T183000
DTEND;TZID=America/New_York:20260413T200000
DTSTAMP:20260425T063921
CREATED:20260331T150835Z
LAST-MODIFIED:20260331T151030Z
UID:8782-1776105000-1776110400@honors.umd.edu
SUMMARY:Careers in Neuroscience – Neuropsychiatry Virtual Panel
DESCRIPTION:So\, You’re Interested.. In A Career in Neuropsychiatry?  \nThe UMD Neuroscience Ambassadors are hosting an exciting virtual panel featuring experts in neuropsychiatry on Monday\, April 13th\, 2026 at 6:30 PM. Are you interested in exploring a career in neuropsychiatry? Join for an engaging panel discussion featuring professionals in the field who will share insights on career pathways\, training\, and real-world experiences at the intersection of neuroscience and mental health. \nPanelists (view bios): \n\nSeth Ament\, PhD – Associate Professor\, University of Maryland School of Medicine\nAaron Hauptman\, MD – Associate Director of Neuropsychiatry\, Kennedy Krieger Institute and Johns Hopkins School of Medicine\nTheodore Osuala\, MD – Medical Director\, Gilead Quantum Health Systems Inc\nJulio Quezada\, MD – Pediatric Neurologist & Behavioral Neurologist\, Kennedy Krieger Institute\nMathieu Wimmer\, PhD – Associate Professor and Director of the Neuroscience Masters Program\, Temple University\n\nEvent details: \n\nDate/time: Monday\, April 13\, 6:30 PM – 8:00 PM\nLocation: Zoom
URL:https://honors.umd.edu/event/2026/careers-in-neuroscience-neuropsychiatry-virtual-panel/
LOCATION:MD
CATEGORIES:Campus Groups & Activities
ATTACH;FMTTYPE=image/png:https://honors.umd.edu/wp-content/uploads/2026/03/Careers-in-Neuroscience-panel-flyer-April-2026.png
END:VEVENT
BEGIN:VEVENT
DTSTART;TZID=America/New_York:20260414T170000
DTEND;TZID=America/New_York:20260414T190000
DTSTAMP:20260425T063921
CREATED:20260210T152053Z
LAST-MODIFIED:20260210T152136Z
UID:8598-1776186000-1776193200@honors.umd.edu
SUMMARY:Financial Wellness Workshop Series for First-Gen Students: Investing
DESCRIPTION:Empowering first-generation college students with the tools to take control of their financial future\, this interactive workshop series covers budgeting basics\, smart saving strategies\, managing student loans\, and building credit with confidence. Participants will leave with practical tips\, resources\, and a personalized plan to thrive financially throughout college and beyond. \nThe April workshop teaches you the basics of growing your money and building a strong financial future—starting today! \n\nDate: Tuesday\, April 14th \nTime: 5:00–7:00 p.m.\nLocation: ESJ 1202 Edward St. John Room \n\nHosted by Lakeyla Whitaker\, Financial Wellness Coordinator\, Thrive Center for Essential Needs\, Dean of Students Office\, VPSA.
URL:https://honors.umd.edu/event/2026/financial-wellness-workshop-series-for-first-gen-students-investing/
LOCATION:Edward St. John Learning and Teaching Center\, College Park\, MD\, 20742\, United States
CATEGORIES:Campus Groups & Activities
ATTACH;FMTTYPE=image/png:https://honors.umd.edu/wp-content/uploads/2026/02/Financial-Wellness-Series-2026-Investing.png
END:VEVENT
BEGIN:VEVENT
DTSTART;TZID=America/New_York:20260414T193000
DTEND;TZID=America/New_York:20260414T203000
DTSTAMP:20260425T063921
CREATED:20260407T194142Z
LAST-MODIFIED:20260407T194142Z
UID:8810-1776195000-1776198600@honors.umd.edu
SUMMARY:Terrapin Think Tank Alumni Panel
DESCRIPTION:Join the Terrapin Think Tank for a virtual Alumni Panel on navigating careers at the intersections of health policy\, public health\, medicine\, and research. This networking event is open to all members of the UMD community! The panel features TTT graduates who are now medical students at Yale\, a clinical research fellow at the University of Maryland Medical Center\, and an MPH candidate in Health Equity. All of the panelists have engaged in significant health policy work and will be sharing their journeys and advice for students integrating public health policy work into medical and academic careers. \nRSVP for the panel Zoom link.
URL:https://honors.umd.edu/event/2026/terrapin-think-tank-alumni-panel/
LOCATION:Online
CATEGORIES:Campus Groups & Activities
ATTACH;FMTTYPE=image/png:https://honors.umd.edu/wp-content/uploads/2022/05/HC-colors-default-post-image.png
END:VEVENT
BEGIN:VEVENT
DTSTART;TZID=America/New_York:20260418T110000
DTEND;TZID=America/New_York:20260418T130000
DTSTAMP:20260425T063921
CREATED:20260401T125147Z
LAST-MODIFIED:20260401T125147Z
UID:8800-1776510000-1776517200@honors.umd.edu
SUMMARY:Use of Plant-Based Color as a Visual Language
DESCRIPTION:Step beyond synthetic pigments and into a world where art\, chemistry\, and cultural memory collide. \nJoin the UMD Stamp Gallery\, Studio A\, and the ARTiculate Narratives Project for a dynamic virtual artist talk with Mr. Wanyama Ogutu\, MFA scholar at Kenyatta University. Discover how he extracts vibrant color from native Swahili plants and transforms them into powerful paintings that preserve cultural identity through creative expression. \n\nA virtual deep-dive into the chemistry and heritage of botanical pigments\nA live walkthrough of traditional color extraction and artistic process\nInteractive Q&A with the artist\n\nThen\, step into the studio to mix and paint your own watercolor masterpiece using natural materials. Learn how to transform your environment into a sustainable\, symbolic palette. \nSupported by Arts for All\, a Do Good Mini Grant\, Pepsi\, and Stamp Programs. \nEvent details: \n\nSaturday\, April 18 | 11AM-1PM\nStamp Studio A
URL:https://honors.umd.edu/event/2026/use-of-plant-based-color-as-a-visual-language/
LOCATION:Stamp Student Union\, Stamp Student Union\, College Park\, MD\, 20742\, United States
CATEGORIES:Campus Groups & Activities
ATTACH;FMTTYPE=image/png:https://honors.umd.edu/wp-content/uploads/2026/04/Plant-Based-Color-as-Visual-Language_Mr.-Wanyama.png
END:VEVENT
BEGIN:VEVENT
DTSTART;TZID=America/New_York:20260421T170000
DTEND;TZID=America/New_York:20260421T190000
DTSTAMP:20260425T063921
CREATED:20260210T152302Z
LAST-MODIFIED:20260210T152439Z
UID:8601-1776790800-1776798000@honors.umd.edu
SUMMARY:Financial Wellness Workshop Series for First-Gen Students: Cashflow
DESCRIPTION:Empowering first-generation college students with the tools to take control of their financial future\, this interactive workshop series covers budgeting basics\, smart saving strategies\, managing student loans\, and building credit with confidence. Participants will leave with practical tips\, resources\, and a personalized plan to thrive financially throughout college and beyond. \nThe April workshop teaches you how to manage money and build wealth in real life. \n\nDate: Tuesday\, April 21st \nTime: 5:00–7:00 p.m.\nLocation: McKeldin Library 1st floor room 1221\nCapacity: 24-34 players max – first come\, first served!\n\nHosted by Lakeyla Whitaker\, Financial Wellness Coordinator\, Thrive Center for Essential Needs\, Dean of Students Office\, VPSA.
URL:https://honors.umd.edu/event/2026/financial-wellness-workshop-series-for-first-gen-students-cashflow/
LOCATION:McKeldin Library\, College Park\, MD\, 20742\, United States
CATEGORIES:Campus Groups & Activities
ATTACH;FMTTYPE=image/png:https://honors.umd.edu/wp-content/uploads/2026/02/Financial-Wellness-Series-2026-Cashflow.png
END:VEVENT
BEGIN:VEVENT
DTSTART;TZID=America/New_York:20260421T180000
DTEND;TZID=America/New_York:20260421T200000
DTSTAMP:20260425T063921
CREATED:20260331T151153Z
LAST-MODIFIED:20260331T151153Z
UID:8785-1776794400-1776801600@honors.umd.edu
SUMMARY:Working Across the Divide
DESCRIPTION:Join Working Across the Divide\, a dynamic panel discussion featuring leaders from media\, academia\, and social impact as they explore how to bridge divides through common ground\, courageous conversations\, and practical frameworks. This conversation will offer valuable insights on navigating differences\, fostering understanding\, and driving meaningful dialogue in today’s world. \nEvent Details: \n\nDate/time: Tuesday\, April 21\, 6:00–8:00 PM\nLocation: Frank Auditorium\, Van Munching Hall
URL:https://honors.umd.edu/event/2026/working-across-the-divide/
LOCATION:Van Munching Hall\, College Park\, MD\, 20742\, United States
CATEGORIES:Campus Groups & Activities
ATTACH;FMTTYPE=image/png:https://honors.umd.edu/wp-content/uploads/2026/03/Working-Across-the-Divide-QR-Code.png
END:VEVENT
BEGIN:VEVENT
DTSTART;TZID=America/New_York:20260501T140000
DTEND;TZID=America/New_York:20260501T140000
DTSTAMP:20260425T063921
CREATED:20260331T145941Z
LAST-MODIFIED:20260331T145941Z
UID:8778-1777644000-1777644000@honors.umd.edu
SUMMARY:UMD Memorial Celebration
DESCRIPTION:All are welcome.  \nWe mourn the lives lost in our University of Maryland community and feel deeply that all Terrapins should be honored for their contributions to our campus. The university’s fifth annual Memorial Celebration brings our community together to remember the lives of Maryland students\, faculty\, emeriti faculty\, and staff who have passed. In joining together to remember\, we mourn these recent losses as a community and lean on each other through this shared experience. \nThis ceremony is symbolic of what it means to be part of the Terrapin family\, and we encourage all members of our community to join us. This year’s celebration will honor students\, faculty\, emeriti faculty\, and staff who passed away from April 2024 through April 2025 while enrolled at or working for the university. \nDirections to the Memorial Chapel can be found here. \nParking will be available in Regents Drive Garage and by reservation along Chapel Lane and Regents Drive.
URL:https://honors.umd.edu/event/2026/umd-memorial-celebration/
LOCATION:UMD Memorial Chapel\, 7744 Regents Dr\, College Park\, MD\, 20742\, United States
CATEGORIES:Campus Groups & Activities
ATTACH;FMTTYPE=image/jpeg:https://honors.umd.edu/wp-content/uploads/2026/03/UMD-Memorial-Celebration-2026.jpg
END:VEVENT
END:VCALENDAR