BEGIN:VCALENDAR
VERSION:2.0
PRODID:-//University of Maryland Honors College - ECPv6.15.20//NONSGML v1.0//EN
CALSCALE:GREGORIAN
METHOD:PUBLISH
X-WR-CALNAME:University of Maryland Honors College
X-ORIGINAL-URL:https://honors.umd.edu
X-WR-CALDESC:Events for University of Maryland Honors College
REFRESH-INTERVAL;VALUE=DURATION:PT1H
X-Robots-Tag:noindex
X-PUBLISHED-TTL:PT1H
BEGIN:VTIMEZONE
TZID:America/New_York
BEGIN:DAYLIGHT
TZOFFSETFROM:-0500
TZOFFSETTO:-0400
TZNAME:EDT
DTSTART:20250309T070000
END:DAYLIGHT
BEGIN:STANDARD
TZOFFSETFROM:-0400
TZOFFSETTO:-0500
TZNAME:EST
DTSTART:20251102T060000
END:STANDARD
BEGIN:DAYLIGHT
TZOFFSETFROM:-0500
TZOFFSETTO:-0400
TZNAME:EDT
DTSTART:20260308T070000
END:DAYLIGHT
BEGIN:STANDARD
TZOFFSETFROM:-0400
TZOFFSETTO:-0500
TZNAME:EST
DTSTART:20261101T060000
END:STANDARD
BEGIN:DAYLIGHT
TZOFFSETFROM:-0500
TZOFFSETTO:-0400
TZNAME:EDT
DTSTART:20270314T070000
END:DAYLIGHT
BEGIN:STANDARD
TZOFFSETFROM:-0400
TZOFFSETTO:-0500
TZNAME:EST
DTSTART:20271107T060000
END:STANDARD
END:VTIMEZONE
BEGIN:VEVENT
DTSTART;TZID=America/New_York:20260203T140000
DTEND;TZID=America/New_York:20260203T170000
DTSTAMP:20260424T221420
CREATED:20260127T152406Z
LAST-MODIFIED:20260127T154728Z
UID:8498-1770127200-1770138000@honors.umd.edu
SUMMARY:Maryland Global Study Abroad Fair
DESCRIPTION:Make the world your classroom and discover a program that fits your academic goals\, learning interests\, and budget! At the Study Abroad Fair\, find resources to fund your study abroad and speak with our community of #TerpsAbroad alumni and Global Learning Advisors. Learn more at go.umd.edu/abroadfair26.
URL:https://honors.umd.edu/event/2026/maryland-global-study-abroad-fair/
LOCATION:Stamp Student Union\, Stamp Student Union\, College Park\, MD\, 20742\, United States
CATEGORIES:Campus Groups & Activities,Job & Internship Fairs
ATTACH;FMTTYPE=image/png:https://honors.umd.edu/wp-content/uploads/2026/01/Study-Abroad-Fair-17-X-Linkedin-Graphic.png
END:VEVENT
END:VCALENDAR