BEGIN:VCALENDAR
VERSION:2.0
PRODID:-//University of Maryland Honors College - ECPv6.15.20//NONSGML v1.0//EN
CALSCALE:GREGORIAN
METHOD:PUBLISH
X-ORIGINAL-URL:https://honors.umd.edu
X-WR-CALDESC:Events for University of Maryland Honors College
REFRESH-INTERVAL;VALUE=DURATION:PT1H
X-Robots-Tag:noindex
X-PUBLISHED-TTL:PT1H
BEGIN:VTIMEZONE
TZID:America/New_York
BEGIN:DAYLIGHT
TZOFFSETFROM:-0500
TZOFFSETTO:-0400
TZNAME:EDT
DTSTART:20250309T070000
END:DAYLIGHT
BEGIN:STANDARD
TZOFFSETFROM:-0400
TZOFFSETTO:-0500
TZNAME:EST
DTSTART:20251102T060000
END:STANDARD
BEGIN:DAYLIGHT
TZOFFSETFROM:-0500
TZOFFSETTO:-0400
TZNAME:EDT
DTSTART:20260308T070000
END:DAYLIGHT
BEGIN:STANDARD
TZOFFSETFROM:-0400
TZOFFSETTO:-0500
TZNAME:EST
DTSTART:20261101T060000
END:STANDARD
BEGIN:DAYLIGHT
TZOFFSETFROM:-0500
TZOFFSETTO:-0400
TZNAME:EDT
DTSTART:20270314T070000
END:DAYLIGHT
BEGIN:STANDARD
TZOFFSETFROM:-0400
TZOFFSETTO:-0500
TZNAME:EST
DTSTART:20271107T060000
END:STANDARD
END:VTIMEZONE
BEGIN:VEVENT
DTSTART;TZID=America/New_York:20260309T170000
DTEND;TZID=America/New_York:20260309T170000
DTSTAMP:20260424T192842
CREATED:20260303T170325Z
LAST-MODIFIED:20260303T170325Z
UID:8684-1773075600-1773075600@honors.umd.edu
SUMMARY:ILS Seminar Series presents Dr. Shyam Sharan
DESCRIPTION:Join ILS for the next presentation in their seminar series\, featuring Dr. Shyam Sharan. Dr. Sharan will discuss modeling human breast cancer gene function using mouse embryonic cells. \nDate/time: March 9\, 2026\, 5 p.m. \nLocation: Bioscience Research Building (BRB) 1103
URL:https://honors.umd.edu/event/2026/ils-seminar-series-presents-dr-shyam-sharan/
LOCATION:Bioscence Research Building (BRB)\, Bioscience Research Building (#413)\, College Park\, MD\, 20742\, United States
CATEGORIES:Campus Groups & Activities
ATTACH;FMTTYPE=image/png:https://honors.umd.edu/wp-content/uploads/2026/03/ILS-Sharan_Talk_March-9-2026.png
END:VEVENT
BEGIN:VEVENT
DTSTART;TZID=America/New_York:20260310T170000
DTEND;TZID=America/New_York:20260310T190000
DTSTAMP:20260424T192842
CREATED:20260210T151918Z
LAST-MODIFIED:20260210T151940Z
UID:8595-1773162000-1773169200@honors.umd.edu
SUMMARY:Financial Wellness Workshop Series for First-Gen Students: Credit
DESCRIPTION:Empowering first-generation college students with the tools to take control of their financial future\, this interactive workshop series covers budgeting basics\, smart saving strategies\, managing student loans\, and building credit with confidence. Participants will leave with practical tips\, resources\, and a personalized plan to thrive financially throughout college and beyond. \nThe March workshop teaches you how to manage credit and make smart spending choices to build a strong financial future. \n\nDate: Tuesday\, March 10th \nTime: 5:00–7:00 p.m.\nLocation: Zoom\n\nHosted by Lakeyla Whitaker\, Financial Wellness Coordinator\, Thrive Center for Essential Needs\, Dean of Students Office\, VPSA.
URL:https://honors.umd.edu/event/2026/financial-wellness-workshop-series-for-first-gen-students-credit/
LOCATION:Online
CATEGORIES:Campus Groups & Activities
ATTACH;FMTTYPE=image/png:https://honors.umd.edu/wp-content/uploads/2026/02/Financial-Wellness-Series-2026-Credit.png
END:VEVENT
BEGIN:VEVENT
DTSTART;TZID=America/New_York:20260325T170000
DTEND;TZID=America/New_York:20260325T170000
DTSTAMP:20260424T192842
CREATED:20260324T142206Z
LAST-MODIFIED:20260324T142413Z
UID:8729-1774458000-1774458000@honors.umd.edu
SUMMARY:Career Networking Prep (Black Honors Caucus)
DESCRIPTION:Join the Black Honors Caucus (BHC) for an event to strengthen your professional networking skills! Not only will this help prepare for their upcoming networking event on April 7\, but these skills can be carried throughout college and beyond. Learn about meaningful conversation and how to make a positive\, memorable impact on the professionals you interact with. \nLocation: Anne Arundel Hall basement.
URL:https://honors.umd.edu/event/2026/career-networking-prep-with-the-black-honors-caucus/
LOCATION:Anne Arundel Hall\, Anne Arundel Hall\, College Park\, MD\, 20742\, United States
CATEGORIES:Campus Groups & Activities,Honors Community Events
ATTACH;FMTTYPE=image/png:https://honors.umd.edu/wp-content/uploads/2026/03/BHC-X-Career-Center-Networking-Night-Post-1.png
END:VEVENT
BEGIN:VEVENT
DTSTART;TZID=America/New_York:20260330T180000
DTEND;TZID=America/New_York:20260330T193000
DTSTAMP:20260424T192842
CREATED:20260310T170732Z
LAST-MODIFIED:20260310T171401Z
UID:8702-1774893600-1774899000@honors.umd.edu
SUMMARY:Women's History Month Health Professions Panel
DESCRIPTION:Join a panel discussion for Women’s History Month about health professions on Monday\, March 30\, 6-7:30 p.m.\, in ESJ2208.
URL:https://honors.umd.edu/event/2026/womens-history-month-health-professions-panel/
LOCATION:Edward St. John Learning and Teaching Center\, College Park\, MD\, 20742\, United States
CATEGORIES:Campus Groups & Activities
ATTACH;FMTTYPE=image/png:https://honors.umd.edu/wp-content/uploads/2026/03/WHM-Health-Professions-Panel-2026.png
END:VEVENT
BEGIN:VEVENT
DTSTART;TZID=America/New_York:20260331T173000
DTEND;TZID=America/New_York:20260331T173000
DTSTAMP:20260424T192842
CREATED:20260324T141108Z
LAST-MODIFIED:20260324T141108Z
UID:8720-1774978200-1774978200@honors.umd.edu
SUMMARY:Creative Destruction or Construction: Disruptive Technologies and Business Models in Media
DESCRIPTION:The Fact-Based Discourse Initiative at the Ed Snider Center invites you to an engaging discussion on how disruptive technologies and evolving business models are reshaping industries. Hear from Oscar Zeballos and Naren Aryal as they share insights on innovation\, entrepreneurship\, and the opportunities created by disruption. This conversation will explore whether disruption leads to destruction or new opportunities for growth\, and what it means for the future of business. \nLocation: Frank Auditorium\, Van Munching Hall
URL:https://honors.umd.edu/event/2026/creative-destruction-or-construction-disruptive-technologies-and-business-models-in-media/
LOCATION:Van Munching Hall\, College Park\, MD\, 20742\, United States
CATEGORIES:Campus Groups & Activities
ATTACH;FMTTYPE=image/png:https://honors.umd.edu/wp-content/uploads/2026/03/Ed-Snider-Center-March-31-Event-Flyer-.png
END:VEVENT
END:VCALENDAR