BEGIN:VCALENDAR
VERSION:2.0
PRODID:-//University of Maryland Honors College - ECPv6.15.20//NONSGML v1.0//EN
CALSCALE:GREGORIAN
METHOD:PUBLISH
X-WR-CALNAME:University of Maryland Honors College
X-ORIGINAL-URL:https://honors.umd.edu
X-WR-CALDESC:Events for University of Maryland Honors College
REFRESH-INTERVAL;VALUE=DURATION:PT1H
X-Robots-Tag:noindex
X-PUBLISHED-TTL:PT1H
BEGIN:VTIMEZONE
TZID:America/New_York
BEGIN:DAYLIGHT
TZOFFSETFROM:-0500
TZOFFSETTO:-0400
TZNAME:EDT
DTSTART:20240310T070000
END:DAYLIGHT
BEGIN:STANDARD
TZOFFSETFROM:-0400
TZOFFSETTO:-0500
TZNAME:EST
DTSTART:20241103T060000
END:STANDARD
BEGIN:DAYLIGHT
TZOFFSETFROM:-0500
TZOFFSETTO:-0400
TZNAME:EDT
DTSTART:20250309T070000
END:DAYLIGHT
BEGIN:STANDARD
TZOFFSETFROM:-0400
TZOFFSETTO:-0500
TZNAME:EST
DTSTART:20251102T060000
END:STANDARD
BEGIN:DAYLIGHT
TZOFFSETFROM:-0500
TZOFFSETTO:-0400
TZNAME:EDT
DTSTART:20260308T070000
END:DAYLIGHT
BEGIN:STANDARD
TZOFFSETFROM:-0400
TZOFFSETTO:-0500
TZNAME:EST
DTSTART:20261101T060000
END:STANDARD
END:VTIMEZONE
BEGIN:VEVENT
DTSTART;TZID=America/New_York:20251201T173000
DTEND;TZID=America/New_York:20251201T200000
DTSTAMP:20260424T233419
CREATED:20251111T160811Z
LAST-MODIFIED:20251111T160811Z
UID:8233-1764610200-1764619200@honors.umd.edu
SUMMARY:Research in Industry Panel - Ed Snider Center
DESCRIPTION:The Ed Snider Center is hosting a Research in Industry Panel on December 1 in VMH2333\, with pizza at 5:30 p.m.\, followed by the panel discussion from 6:00–7:30 p.m. The event is open to students interested in learning how research is used in industry and exploring related career paths.
URL:https://honors.umd.edu/event/2025/research-in-industry-panel-ed-snider-center/
LOCATION:Van Munching Hall\, College Park\, MD\, 20742\, United States
CATEGORIES:Campus Groups & Activities
ATTACH;FMTTYPE=image/png:https://honors.umd.edu/wp-content/uploads/2025/11/Research-in-Industry-Panel-UG-Newsletter-1080-x-540-px-1080-x-540-px.png
END:VEVENT
BEGIN:VEVENT
DTSTART;TZID=America/New_York:20251206T113000
DTEND;TZID=America/New_York:20251206T143000
DTSTAMP:20260424T233419
CREATED:20251105T145029Z
LAST-MODIFIED:20251105T145257Z
UID:8155-1765020600-1765031400@honors.umd.edu
SUMMARY:A Path Forward: Honoring Lt. Collins at the City Ranch
DESCRIPTION:Join the BSU-UMD Social Justice Alliance\, 2nd Lt. Richard W. Collins III Foundation\, and the Mission Continues to honor the life and legacy of Lt. Richard Collins III through a day of service\, reflection\, and community impact. Volunteers will come together at City Ranch\, under the direction of Cowboy Brandt\, to build benches\, clean up the grounds\, and help map out new hiking trails in dedication to this courageous soldier’s memory. Whether you are a student\, faculty or staff member\, veteran\, community member\, or supporter\, your participation helps ensure that Lt. Collins’ legacy of courage and compassion continues to live on through meaningful action. All are welcome.\n \n\n\nDate: December 6\, 2025\nTime: 11:00 AM – 02:30 PM (EST)\nLocation: The City Ranch (7613 Dogwood Road Windsor Mill\, MD)\nTransportation will be provided from Bowie State University and the University of Maryland to and from the work site.\nFree parking is available on-site.\nLunch will be provided!
URL:https://honors.umd.edu/event/2025/a-path-forward-honoring-lt-collins-at-the-city-ranch/
LOCATION:The City Ranch\, 7613 Dogwood Road\, Windsor Mill\, MD\, 21244\, United States
CATEGORIES:Campus Groups & Activities
ATTACH;FMTTYPE=image/png:https://honors.umd.edu/wp-content/uploads/2022/05/HC-colors-default-post-image.png
END:VEVENT
BEGIN:VEVENT
DTSTART;TZID=America/New_York:20251215T130000
DTEND;TZID=America/New_York:20251215T140000
DTSTAMP:20260424T233419
CREATED:20251202T153135Z
LAST-MODIFIED:20251202T153135Z
UID:8316-1765803600-1765807200@honors.umd.edu
SUMMARY:BooKs on the Ground study break with Sista Staff
DESCRIPTION:Join Sista Staff for a fun\, stress-reducing\, endorphin-raising\, get-your-body-moving line dance class. Participants will learn some of the most popular R&B line dances\, including Boots on the Ground. Dress comfortably and bring water. \nEvent details: \n\nDate and time: Monady\, December 15\, 1 p.m.\nLocation: Multipurpose Room\, Unity Center\, Cole Field House
URL:https://honors.umd.edu/event/2025/books-on-the-ground-study-break-with-sista-staff/
LOCATION:Cole Field House\, Cole Student Activities Building\, College Park\, MD\, 20742\, United States
CATEGORIES:Campus Groups & Activities
ATTACH;FMTTYPE=image/png:https://honors.umd.edu/wp-content/uploads/2025/12/Books-on-the-Ground-Dec-2025.png
END:VEVENT
END:VCALENDAR