BEGIN:VCALENDAR
VERSION:2.0
PRODID:-//University of Maryland Honors College - ECPv6.15.20//NONSGML v1.0//EN
CALSCALE:GREGORIAN
METHOD:PUBLISH
X-WR-CALNAME:University of Maryland Honors College
X-ORIGINAL-URL:https://honors.umd.edu
X-WR-CALDESC:Events for University of Maryland Honors College
REFRESH-INTERVAL;VALUE=DURATION:PT1H
X-Robots-Tag:noindex
X-PUBLISHED-TTL:PT1H
BEGIN:VTIMEZONE
TZID:America/New_York
BEGIN:DAYLIGHT
TZOFFSETFROM:-0500
TZOFFSETTO:-0400
TZNAME:EDT
DTSTART:20250309T070000
END:DAYLIGHT
BEGIN:STANDARD
TZOFFSETFROM:-0400
TZOFFSETTO:-0500
TZNAME:EST
DTSTART:20251102T060000
END:STANDARD
BEGIN:DAYLIGHT
TZOFFSETFROM:-0500
TZOFFSETTO:-0400
TZNAME:EDT
DTSTART:20260308T070000
END:DAYLIGHT
BEGIN:STANDARD
TZOFFSETFROM:-0400
TZOFFSETTO:-0500
TZNAME:EST
DTSTART:20261101T060000
END:STANDARD
BEGIN:DAYLIGHT
TZOFFSETFROM:-0500
TZOFFSETTO:-0400
TZNAME:EDT
DTSTART:20270314T070000
END:DAYLIGHT
BEGIN:STANDARD
TZOFFSETFROM:-0400
TZOFFSETTO:-0500
TZNAME:EST
DTSTART:20271107T060000
END:STANDARD
END:VTIMEZONE
BEGIN:VEVENT
DTSTART;TZID=America/New_York:20260501T140000
DTEND;TZID=America/New_York:20260501T140000
DTSTAMP:20260423T102713
CREATED:20260331T145941Z
LAST-MODIFIED:20260331T145941Z
UID:8778-1777644000-1777644000@honors.umd.edu
SUMMARY:UMD Memorial Celebration
DESCRIPTION:All are welcome.  \nWe mourn the lives lost in our University of Maryland community and feel deeply that all Terrapins should be honored for their contributions to our campus. The university’s fifth annual Memorial Celebration brings our community together to remember the lives of Maryland students\, faculty\, emeriti faculty\, and staff who have passed. In joining together to remember\, we mourn these recent losses as a community and lean on each other through this shared experience. \nThis ceremony is symbolic of what it means to be part of the Terrapin family\, and we encourage all members of our community to join us. This year’s celebration will honor students\, faculty\, emeriti faculty\, and staff who passed away from April 2024 through April 2025 while enrolled at or working for the university. \nDirections to the Memorial Chapel can be found here. \nParking will be available in Regents Drive Garage and by reservation along Chapel Lane and Regents Drive.
URL:https://honors.umd.edu/event/2026/umd-memorial-celebration/
LOCATION:UMD Memorial Chapel\, 7744 Regents Dr\, College Park\, MD\, 20742\, United States
CATEGORIES:Campus Groups & Activities
ATTACH;FMTTYPE=image/jpeg:https://honors.umd.edu/wp-content/uploads/2026/03/UMD-Memorial-Celebration-2026.jpg
END:VEVENT
END:VCALENDAR