BEGIN:VCALENDAR
VERSION:2.0
PRODID:-//University of Maryland Honors College - ECPv6.15.20//NONSGML v1.0//EN
CALSCALE:GREGORIAN
METHOD:PUBLISH
X-WR-CALNAME:University of Maryland Honors College
X-ORIGINAL-URL:https://honors.umd.edu
X-WR-CALDESC:Events for University of Maryland Honors College
REFRESH-INTERVAL;VALUE=DURATION:PT1H
X-Robots-Tag:noindex
X-PUBLISHED-TTL:PT1H
BEGIN:VTIMEZONE
TZID:America/New_York
BEGIN:DAYLIGHT
TZOFFSETFROM:-0500
TZOFFSETTO:-0400
TZNAME:EDT
DTSTART:20250309T070000
END:DAYLIGHT
BEGIN:STANDARD
TZOFFSETFROM:-0400
TZOFFSETTO:-0500
TZNAME:EST
DTSTART:20251102T060000
END:STANDARD
BEGIN:DAYLIGHT
TZOFFSETFROM:-0500
TZOFFSETTO:-0400
TZNAME:EDT
DTSTART:20260308T070000
END:DAYLIGHT
BEGIN:STANDARD
TZOFFSETFROM:-0400
TZOFFSETTO:-0500
TZNAME:EST
DTSTART:20261101T060000
END:STANDARD
BEGIN:DAYLIGHT
TZOFFSETFROM:-0500
TZOFFSETTO:-0400
TZNAME:EDT
DTSTART:20270314T070000
END:DAYLIGHT
BEGIN:STANDARD
TZOFFSETFROM:-0400
TZOFFSETTO:-0500
TZNAME:EST
DTSTART:20271107T060000
END:STANDARD
END:VTIMEZONE
BEGIN:VEVENT
DTSTART;TZID=America/New_York:20260227T123000
DTEND;TZID=America/New_York:20260227T153000
DTSTAMP:20260424T221215
CREATED:20260210T154252Z
LAST-MODIFIED:20260210T154317Z
UID:8619-1772195400-1772206200@honors.umd.edu
SUMMARY:Hope\, Healing\, and Mobilizing Against Hate
DESCRIPTION:In honor of the 100th anniversary of Black History Month\, the organizers invite campus community members to the next Hope\, Healing\, and Mobilizing Against Hate session on Friday\, February 27\, 2026\, from 12:30 p.m.–3:30 p.m.\, with lunch provided from 12:30–1:00 p.m. (no pork or seafood will be served). Everyone is welcome to attend this event\, consistent with long-standing practice for events on the University of Maryland campus. \nThis is the seventh gathering in a series\, begun in February 2024\, designed to build community\, capacity\, and connection among students\, staff\, and faculty at UMD who are centering racial and social justice and the dignity\, safety\, belonging\, and humanity of all people in their work and lives. The session will offer opportunities to get to know one another and build trust and connection across campus coalitions; show an ethic of care and love during this time; break out of silos; build capacity for this chapter of work toward racial justice; and center care for participants’ bodies. \nThe gathering will include a facilitated session for participants to learn about and discuss how to strengthen resistance through community\, with a focus on specific skills and practices for audaciously building community and connections during this time. To make the shared space more accessible for individuals with chemical sensitivities or chronic migraines\, attendees are asked to avoid perfumes\, colognes\, and strongly scented personal products. \nThese 2026 sessions are sponsored by the Anti-Black Racism Initiative\, the Division of Student Affairs\, the School of Public Health\, College of Information OACES\, TerrapinSTRONG Education\, the LGBTQ+ Equity Center\, the University Libraries\, and Bias Incident Support Services (BISS). Everyone is welcome\, and the organizers understand that some participants may need to arrive late or leave early. \nQuestions about the event can be directed to hopeheal@umd.edu.
URL:https://honors.umd.edu/event/2026/hope-healing-and-mobilizing-against-hate-2/
CATEGORIES:Campus Groups & Activities
ATTACH;FMTTYPE=image/png:https://honors.umd.edu/wp-content/uploads/2022/05/HC-colors-default-post-image.png
END:VEVENT
END:VCALENDAR