BEGIN:VCALENDAR
VERSION:2.0
PRODID:-//University of Maryland Honors College - ECPv6.15.20//NONSGML v1.0//EN
CALSCALE:GREGORIAN
METHOD:PUBLISH
X-WR-CALNAME:University of Maryland Honors College
X-ORIGINAL-URL:https://honors.umd.edu
X-WR-CALDESC:Events for University of Maryland Honors College
REFRESH-INTERVAL;VALUE=DURATION:PT1H
X-Robots-Tag:noindex
X-PUBLISHED-TTL:PT1H
BEGIN:VTIMEZONE
TZID:America/New_York
BEGIN:DAYLIGHT
TZOFFSETFROM:-0500
TZOFFSETTO:-0400
TZNAME:EDT
DTSTART:20250309T070000
END:DAYLIGHT
BEGIN:STANDARD
TZOFFSETFROM:-0400
TZOFFSETTO:-0500
TZNAME:EST
DTSTART:20251102T060000
END:STANDARD
BEGIN:DAYLIGHT
TZOFFSETFROM:-0500
TZOFFSETTO:-0400
TZNAME:EDT
DTSTART:20260308T070000
END:DAYLIGHT
BEGIN:STANDARD
TZOFFSETFROM:-0400
TZOFFSETTO:-0500
TZNAME:EST
DTSTART:20261101T060000
END:STANDARD
BEGIN:DAYLIGHT
TZOFFSETFROM:-0500
TZOFFSETTO:-0400
TZNAME:EDT
DTSTART:20270314T070000
END:DAYLIGHT
BEGIN:STANDARD
TZOFFSETFROM:-0400
TZOFFSETTO:-0500
TZNAME:EST
DTSTART:20271107T060000
END:STANDARD
END:VTIMEZONE
BEGIN:VEVENT
DTSTART;TZID=America/New_York:20260414T170000
DTEND;TZID=America/New_York:20260414T190000
DTSTAMP:20260424T205326
CREATED:20260210T152053Z
LAST-MODIFIED:20260210T152136Z
UID:8598-1776186000-1776193200@honors.umd.edu
SUMMARY:Financial Wellness Workshop Series for First-Gen Students: Investing
DESCRIPTION:Empowering first-generation college students with the tools to take control of their financial future\, this interactive workshop series covers budgeting basics\, smart saving strategies\, managing student loans\, and building credit with confidence. Participants will leave with practical tips\, resources\, and a personalized plan to thrive financially throughout college and beyond. \nThe April workshop teaches you the basics of growing your money and building a strong financial future—starting today! \n\nDate: Tuesday\, April 14th \nTime: 5:00–7:00 p.m.\nLocation: ESJ 1202 Edward St. John Room \n\nHosted by Lakeyla Whitaker\, Financial Wellness Coordinator\, Thrive Center for Essential Needs\, Dean of Students Office\, VPSA.
URL:https://honors.umd.edu/event/2026/financial-wellness-workshop-series-for-first-gen-students-investing/
LOCATION:Edward St. John Learning and Teaching Center\, College Park\, MD\, 20742\, United States
CATEGORIES:Campus Groups & Activities
ATTACH;FMTTYPE=image/png:https://honors.umd.edu/wp-content/uploads/2026/02/Financial-Wellness-Series-2026-Investing.png
END:VEVENT
END:VCALENDAR