BEGIN:VCALENDAR
VERSION:2.0
PRODID:-//University of Maryland Honors College - ECPv6.15.20//NONSGML v1.0//EN
CALSCALE:GREGORIAN
METHOD:PUBLISH
X-WR-CALNAME:University of Maryland Honors College
X-ORIGINAL-URL:https://honors.umd.edu
X-WR-CALDESC:Events for University of Maryland Honors College
REFRESH-INTERVAL;VALUE=DURATION:PT1H
X-Robots-Tag:noindex
X-PUBLISHED-TTL:PT1H
BEGIN:VTIMEZONE
TZID:America/New_York
BEGIN:DAYLIGHT
TZOFFSETFROM:-0500
TZOFFSETTO:-0400
TZNAME:EDT
DTSTART:20250309T070000
END:DAYLIGHT
BEGIN:STANDARD
TZOFFSETFROM:-0400
TZOFFSETTO:-0500
TZNAME:EST
DTSTART:20251102T060000
END:STANDARD
BEGIN:DAYLIGHT
TZOFFSETFROM:-0500
TZOFFSETTO:-0400
TZNAME:EDT
DTSTART:20260308T070000
END:DAYLIGHT
BEGIN:STANDARD
TZOFFSETFROM:-0400
TZOFFSETTO:-0500
TZNAME:EST
DTSTART:20261101T060000
END:STANDARD
BEGIN:DAYLIGHT
TZOFFSETFROM:-0500
TZOFFSETTO:-0400
TZNAME:EDT
DTSTART:20270314T070000
END:DAYLIGHT
BEGIN:STANDARD
TZOFFSETFROM:-0400
TZOFFSETTO:-0500
TZNAME:EST
DTSTART:20271107T060000
END:STANDARD
END:VTIMEZONE
BEGIN:VEVENT
DTSTART;TZID=America/New_York:20260210T170000
DTEND;TZID=America/New_York:20260210T190000
DTSTAMP:20260424T221419
CREATED:20260210T151752Z
LAST-MODIFIED:20260210T151912Z
UID:8588-1770742800-1770750000@honors.umd.edu
SUMMARY:Financial Wellness Workshop Series for First-Gen Students: Budgeting
DESCRIPTION:Empowering first-generation college students with the tools to take control of their financial future\, this interactive workshop series covers budgeting basics\, smart saving strategies\, managing student loans\, and building credit with confidence. Participants will leave with practical tips\, resources\, and a personalized plan to thrive financially throughout college and beyond. \nThe February workshop on practical budgeting tips to manage your money\, reduce stress\, and set yourself up for financial success. \n\nDate: Tuesday\, February 10th \nTime: 5:00–7:00 p.m.\nLocation: Zoom\n\nHosted by Lakeyla Whitaker\, Financial Wellness Coordinator\, Thrive Center for Essential Needs\, Dean of Students Office\, VPSA.
URL:https://honors.umd.edu/event/2026/financial-wellness-workshop-series-for-first-gen-students-budgeting/
LOCATION:Online
CATEGORIES:Campus Groups & Activities
ATTACH;FMTTYPE=image/png:https://honors.umd.edu/wp-content/uploads/2026/02/Financial-Wellness-Series-2026-Budgeting.png
END:VEVENT
END:VCALENDAR