BEGIN:VCALENDAR
VERSION:2.0
PRODID:-//University of Maryland Honors College - ECPv6.15.20//NONSGML v1.0//EN
CALSCALE:GREGORIAN
METHOD:PUBLISH
X-WR-CALNAME:University of Maryland Honors College
X-ORIGINAL-URL:https://honors.umd.edu
X-WR-CALDESC:Events for University of Maryland Honors College
REFRESH-INTERVAL;VALUE=DURATION:PT1H
X-Robots-Tag:noindex
X-PUBLISHED-TTL:PT1H
BEGIN:VTIMEZONE
TZID:America/New_York
BEGIN:DAYLIGHT
TZOFFSETFROM:-0500
TZOFFSETTO:-0400
TZNAME:EDT
DTSTART:20250309T070000
END:DAYLIGHT
BEGIN:STANDARD
TZOFFSETFROM:-0400
TZOFFSETTO:-0500
TZNAME:EST
DTSTART:20251102T060000
END:STANDARD
BEGIN:DAYLIGHT
TZOFFSETFROM:-0500
TZOFFSETTO:-0400
TZNAME:EDT
DTSTART:20260308T070000
END:DAYLIGHT
BEGIN:STANDARD
TZOFFSETFROM:-0400
TZOFFSETTO:-0500
TZNAME:EST
DTSTART:20261101T060000
END:STANDARD
BEGIN:DAYLIGHT
TZOFFSETFROM:-0500
TZOFFSETTO:-0400
TZNAME:EDT
DTSTART:20270314T070000
END:DAYLIGHT
BEGIN:STANDARD
TZOFFSETFROM:-0400
TZOFFSETTO:-0500
TZNAME:EST
DTSTART:20271107T060000
END:STANDARD
END:VTIMEZONE
BEGIN:VEVENT
DTSTART;TZID=America/New_York:20260421T190000
DTEND;TZID=America/New_York:20260421T200000
DTSTAMP:20260423T115612
CREATED:20260414T173318Z
LAST-MODIFIED:20260414T173318Z
UID:8846-1776798000-1776801600@honors.umd.edu
SUMMARY:DART Webinar Information Session
DESCRIPTION:Interested in becoming a faith-based community organizer?  Want to learn more before you apply? This hour-long online information session is for you. Webinar FAQ available here. \n\n\nWHEN\nApril 21\, 2026\, at 7:00 pm – 8 pm Eastern Time (US & Canada)\n\n\n\nWHERE\nZoom Meeting Room\nWebinar link and instructions will be emailed upon receipt of RSVP
URL:https://honors.umd.edu/event/2026/dart-webinar-information-session/
LOCATION:Online
CATEGORIES:Conferences & Symposia
ATTACH;FMTTYPE=image/png:https://honors.umd.edu/wp-content/uploads/2022/05/HC-colors-default-post-image.png
END:VEVENT
END:VCALENDAR