BEGIN:VCALENDAR
VERSION:2.0
PRODID:-//University of Maryland Honors College - ECPv6.15.20//NONSGML v1.0//EN
CALSCALE:GREGORIAN
METHOD:PUBLISH
X-WR-CALNAME:University of Maryland Honors College
X-ORIGINAL-URL:https://honors.umd.edu
X-WR-CALDESC:Events for University of Maryland Honors College
REFRESH-INTERVAL;VALUE=DURATION:PT1H
X-Robots-Tag:noindex
X-PUBLISHED-TTL:PT1H
BEGIN:VTIMEZONE
TZID:America/New_York
BEGIN:DAYLIGHT
TZOFFSETFROM:-0500
TZOFFSETTO:-0400
TZNAME:EDT
DTSTART:20250309T070000
END:DAYLIGHT
BEGIN:STANDARD
TZOFFSETFROM:-0400
TZOFFSETTO:-0500
TZNAME:EST
DTSTART:20251102T060000
END:STANDARD
BEGIN:DAYLIGHT
TZOFFSETFROM:-0500
TZOFFSETTO:-0400
TZNAME:EDT
DTSTART:20260308T070000
END:DAYLIGHT
BEGIN:STANDARD
TZOFFSETFROM:-0400
TZOFFSETTO:-0500
TZNAME:EST
DTSTART:20261101T060000
END:STANDARD
BEGIN:DAYLIGHT
TZOFFSETFROM:-0500
TZOFFSETTO:-0400
TZNAME:EDT
DTSTART:20270314T070000
END:DAYLIGHT
BEGIN:STANDARD
TZOFFSETFROM:-0400
TZOFFSETTO:-0500
TZNAME:EST
DTSTART:20271107T060000
END:STANDARD
END:VTIMEZONE
BEGIN:VEVENT
DTSTART;TZID=America/New_York:20260303T170000
DTEND;TZID=America/New_York:20260303T180000
DTSTAMP:20260424T221420
CREATED:20260217T170014Z
LAST-MODIFIED:20260217T170112Z
UID:8643-1772557200-1772560800@honors.umd.edu
SUMMARY:Book Launch: Female Robots and AI in Science Fiction Cinema by Rebecca Jones
DESCRIPTION:UH visiting professor Dr. Rebecca Jones will present a book launch event for her new book\, Female Robots and AI in Science Fiction Cinema: The Fabular Femininity of Gynoids. The event will be on Tuesday\, March 3\, 2026\, at 5 PM in the UH Commons (YDH 0104).
URL:https://honors.umd.edu/event/2026/book-launch-female-robots-rebecca-jones/
LOCATION:UH Commons\, 4136 Stadium Dr\, College Park\, MD\, 20740\, United States
CATEGORIES:Honors Community Events
ATTACH;FMTTYPE=image/jpeg:https://honors.umd.edu/wp-content/uploads/2026/02/2026-03-03-Female-Robots-Book-Launch-Rebecca-Jones-scaled.jpg
END:VEVENT
END:VCALENDAR