BEGIN:VCALENDAR
VERSION:2.0
PRODID:-//University of Maryland Honors College - ECPv6.15.20//NONSGML v1.0//EN
CALSCALE:GREGORIAN
METHOD:PUBLISH
X-WR-CALNAME:University of Maryland Honors College
X-ORIGINAL-URL:https://honors.umd.edu
X-WR-CALDESC:Events for University of Maryland Honors College
REFRESH-INTERVAL;VALUE=DURATION:PT1H
X-Robots-Tag:noindex
X-PUBLISHED-TTL:PT1H
BEGIN:VTIMEZONE
TZID:America/New_York
BEGIN:DAYLIGHT
TZOFFSETFROM:-0500
TZOFFSETTO:-0400
TZNAME:EDT
DTSTART:20250309T070000
END:DAYLIGHT
BEGIN:STANDARD
TZOFFSETFROM:-0400
TZOFFSETTO:-0500
TZNAME:EST
DTSTART:20251102T060000
END:STANDARD
BEGIN:DAYLIGHT
TZOFFSETFROM:-0500
TZOFFSETTO:-0400
TZNAME:EDT
DTSTART:20260308T070000
END:DAYLIGHT
BEGIN:STANDARD
TZOFFSETFROM:-0400
TZOFFSETTO:-0500
TZNAME:EST
DTSTART:20261101T060000
END:STANDARD
BEGIN:DAYLIGHT
TZOFFSETFROM:-0500
TZOFFSETTO:-0400
TZNAME:EDT
DTSTART:20270314T070000
END:DAYLIGHT
BEGIN:STANDARD
TZOFFSETFROM:-0400
TZOFFSETTO:-0500
TZNAME:EST
DTSTART:20271107T060000
END:STANDARD
END:VTIMEZONE
BEGIN:VEVENT
DTSTART;TZID=America/New_York:20260216T180000
DTEND;TZID=America/New_York:20260216T180000
DTSTAMP:20260424T222105
CREATED:20260210T155419Z
LAST-MODIFIED:20260210T155505Z
UID:8629-1771264800-1771264800@honors.umd.edu
SUMMARY:Boo'd Up: Love in the Age of "We" Matter
DESCRIPTION:Join the Let’s Talk Series for conversations about sex\, friendships\, love\, self-care\, and music in this generation and previous generations. \nEvent details: \n\nDate/time: Monday\, February 16\, 6 p.m.\nLocation: Nyumburu Multipurpose Room
URL:https://honors.umd.edu/event/2026/bood-up-love-in-the-age-of-we-matter/
LOCATION:Nyumburu Cultural Center\, 4018 Campus Drive\, College Park\, MD\, 20742\, United States
CATEGORIES:Campus Groups & Activities
ATTACH;FMTTYPE=image/jpeg:https://honors.umd.edu/wp-content/uploads/2026/02/Bood-Up.jpg
END:VEVENT
END:VCALENDAR