BEGIN:VCALENDAR
VERSION:2.0
PRODID:-//University of Maryland Honors College - ECPv6.15.20//NONSGML v1.0//EN
CALSCALE:GREGORIAN
METHOD:PUBLISH
X-WR-CALNAME:University of Maryland Honors College
X-ORIGINAL-URL:https://honors.umd.edu
X-WR-CALDESC:Events for University of Maryland Honors College
REFRESH-INTERVAL;VALUE=DURATION:PT1H
X-Robots-Tag:noindex
X-PUBLISHED-TTL:PT1H
BEGIN:VTIMEZONE
TZID:America/New_York
BEGIN:DAYLIGHT
TZOFFSETFROM:-0500
TZOFFSETTO:-0400
TZNAME:EDT
DTSTART:20250309T070000
END:DAYLIGHT
BEGIN:STANDARD
TZOFFSETFROM:-0400
TZOFFSETTO:-0500
TZNAME:EST
DTSTART:20251102T060000
END:STANDARD
BEGIN:DAYLIGHT
TZOFFSETFROM:-0500
TZOFFSETTO:-0400
TZNAME:EDT
DTSTART:20260308T070000
END:DAYLIGHT
BEGIN:STANDARD
TZOFFSETFROM:-0400
TZOFFSETTO:-0500
TZNAME:EST
DTSTART:20261101T060000
END:STANDARD
BEGIN:DAYLIGHT
TZOFFSETFROM:-0500
TZOFFSETTO:-0400
TZNAME:EDT
DTSTART:20270314T070000
END:DAYLIGHT
BEGIN:STANDARD
TZOFFSETFROM:-0400
TZOFFSETTO:-0500
TZNAME:EST
DTSTART:20271107T060000
END:STANDARD
END:VTIMEZONE
BEGIN:VEVENT
DTSTART;TZID=America/New_York:20260331T160000
DTEND;TZID=America/New_York:20260331T173000
DTSTAMP:20260425T154112
CREATED:20260324T143400Z
LAST-MODIFIED:20260324T143400Z
UID:8742-1774972800-1774978200@honors.umd.edu
SUMMARY:A Conversation with the LA Hope Dealer
DESCRIPTION:Join a conversation with muralist and Maryland alum Corie Mattie ’12 about art and democracy\, the ups and downs of making a living with your creativity\, and the urgency of staying true to our shared humanity. \nPresented by Honors Humanities. \nEvent details: \n\nDate/time: Tuesday\, March 31\, 4-5:30 p.m.\nLocation: Tawes Hall\, Room 2115
URL:https://honors.umd.edu/event/2026/a-conversation-with-the-la-hope-dealer/
LOCATION:Tawes Hall\, College Park\, MD\, United States
CATEGORIES:Honors Community Events
ATTACH;FMTTYPE=image/png:https://honors.umd.edu/wp-content/uploads/2026/03/2026-HH-Artist-in-Residence-Infographic-Final-1.png
END:VEVENT
END:VCALENDAR