BEGIN:VCALENDAR
VERSION:2.0
PRODID:-//University of Maryland Honors College - ECPv6.15.20//NONSGML v1.0//EN
CALSCALE:GREGORIAN
METHOD:PUBLISH
X-WR-CALNAME:University of Maryland Honors College
X-ORIGINAL-URL:https://honors.umd.edu
X-WR-CALDESC:Events for University of Maryland Honors College
REFRESH-INTERVAL;VALUE=DURATION:PT1H
X-Robots-Tag:noindex
X-PUBLISHED-TTL:PT1H
BEGIN:VTIMEZONE
TZID:America/New_York
BEGIN:DAYLIGHT
TZOFFSETFROM:-0500
TZOFFSETTO:-0400
TZNAME:EDT
DTSTART:20250309T070000
END:DAYLIGHT
BEGIN:STANDARD
TZOFFSETFROM:-0400
TZOFFSETTO:-0500
TZNAME:EST
DTSTART:20251102T060000
END:STANDARD
BEGIN:DAYLIGHT
TZOFFSETFROM:-0500
TZOFFSETTO:-0400
TZNAME:EDT
DTSTART:20260308T070000
END:DAYLIGHT
BEGIN:STANDARD
TZOFFSETFROM:-0400
TZOFFSETTO:-0500
TZNAME:EST
DTSTART:20261101T060000
END:STANDARD
BEGIN:DAYLIGHT
TZOFFSETFROM:-0500
TZOFFSETTO:-0400
TZNAME:EDT
DTSTART:20270314T070000
END:DAYLIGHT
BEGIN:STANDARD
TZOFFSETFROM:-0400
TZOFFSETTO:-0500
TZNAME:EST
DTSTART:20271107T060000
END:STANDARD
END:VTIMEZONE
BEGIN:VEVENT
DTSTART;TZID=America/New_York:20260410T110000
DTEND;TZID=America/New_York:20260410T130000
DTSTAMP:20260423T152642
CREATED:20260210T153243Z
LAST-MODIFIED:20260210T153249Z
UID:8611-1775818800-1775826000@honors.umd.edu
SUMMARY:8th Annual BSU-UMD Social Justice Alliance Symposium
DESCRIPTION:The University of Maryland community is invited to the 8th Annual BSU-UMD Social Justice Alliance Symposium on April 10\, 2026\, from 11 a.m. to 1 p.m. at the University of Maryland Riggs Alumni Center. The event will continue to honor the life and legacy of Lt. Richard W. Collins III. This year’s symposium will center the voices\, visions\, and leadership of individuals who are reimagining justice through creativity\, resistance\, and collective joy. In these challenging times\, marked by social unrest\, political division\, and ongoing struggles for equity\, the gathering calls participants to center joy\, mental health\, and persistence as acts of resistance and renewal. Attendees will explore how radical hope and youth-led movements are shaping a more just\, compassionate\, and liberated future.
URL:https://honors.umd.edu/event/2026/8th-annual-bsu-umd-social-justice-alliance-symposium/
LOCATION:Samuel Riggs IV Alumni Center\, 7801 Alumni Drive\, College Park\, MD\, 20742\, United States
CATEGORIES:Conferences & Symposia
ATTACH;FMTTYPE=image/jpeg:https://honors.umd.edu/wp-content/uploads/2026/02/Social-Justice-Alliance-symposium-April-2026.jpg
END:VEVENT
END:VCALENDAR