BEGIN:VCALENDAR
VERSION:2.0
PRODID:-//University of Maryland Honors College - ECPv6.15.20//NONSGML v1.0//EN
CALSCALE:GREGORIAN
METHOD:PUBLISH
X-WR-CALNAME:University of Maryland Honors College
X-ORIGINAL-URL:https://honors.umd.edu
X-WR-CALDESC:Events for University of Maryland Honors College
REFRESH-INTERVAL;VALUE=DURATION:PT1H
X-Robots-Tag:noindex
X-PUBLISHED-TTL:PT1H
BEGIN:VTIMEZONE
TZID:America/New_York
BEGIN:DAYLIGHT
TZOFFSETFROM:-0500
TZOFFSETTO:-0400
TZNAME:EDT
DTSTART:20240310T070000
END:DAYLIGHT
BEGIN:STANDARD
TZOFFSETFROM:-0400
TZOFFSETTO:-0500
TZNAME:EST
DTSTART:20241103T060000
END:STANDARD
BEGIN:DAYLIGHT
TZOFFSETFROM:-0500
TZOFFSETTO:-0400
TZNAME:EDT
DTSTART:20250309T070000
END:DAYLIGHT
BEGIN:STANDARD
TZOFFSETFROM:-0400
TZOFFSETTO:-0500
TZNAME:EST
DTSTART:20251102T060000
END:STANDARD
BEGIN:DAYLIGHT
TZOFFSETFROM:-0500
TZOFFSETTO:-0400
TZNAME:EDT
DTSTART:20260308T070000
END:DAYLIGHT
BEGIN:STANDARD
TZOFFSETFROM:-0400
TZOFFSETTO:-0500
TZNAME:EST
DTSTART:20261101T060000
END:STANDARD
END:VTIMEZONE
BEGIN:VEVENT
DTSTART;TZID=America/New_York:20250305T120000
DTEND;TZID=America/New_York:20250305T133000
DTSTAMP:20260424T123842
CREATED:20250218T151112Z
LAST-MODIFIED:20250218T151112Z
UID:6609-1741176000-1741181400@honors.umd.edu
SUMMARY:Understanding the Public Service Loan Forgiveness Program Webinar
DESCRIPTION:This webinar will explain how to obtain student loan relief from the Public Service Loan Forgiveness Program (PSLF). The PSLF program is administered by the U.S. Department of Education and is designed to forgive the student loan balances of those employed by a government or non-profit organization. \nWhen: Wednesday\, March 5\, 12-1:30 pm ET \nSpeakers: \n\nKalia Patricio\, Ph.D\, Associate Director of Administrative Operations\, University of Maryland\nAdam Minsky\, Student Loan Lawyer\n\nWhat to Expect: \n\nIntroduction to the PSLF: Get to know the Public Service Loan Forgiveness program.\nEligibility Requirements: Explore if you meet the necessary requirements for the U.S. Department of Education loan forgiveness program.\nResources for Applying: Discover how to apply to have your student-debt forgiven.\n\nWho Should Attend?\nThis webinar is for UMD faculty\, staff\, students\, and alumni who are interested in learning more about the federal Public Service Loan Forgiveness program. \nWhat is Public Service Promise?\nPublic Service Promise is a new non-profit whose mission is to educate public servants about the PSLF program. As a nonprofit organization\, everything PSP offers is free of charge.
URL:https://honors.umd.edu/event/2025/understanding-the-public-service-loan-forgiveness-program-webinar/
LOCATION:Online
CATEGORIES:Info Sessions
ATTACH;FMTTYPE=image/png:https://honors.umd.edu/wp-content/uploads/2022/05/HC-colors-default-post-image.png
END:VEVENT
END:VCALENDAR