BEGIN:VCALENDAR
VERSION:2.0
PRODID:-//University of Maryland Honors College - ECPv6.15.20//NONSGML v1.0//EN
CALSCALE:GREGORIAN
METHOD:PUBLISH
X-WR-CALNAME:University of Maryland Honors College
X-ORIGINAL-URL:https://honors.umd.edu
X-WR-CALDESC:Events for University of Maryland Honors College
REFRESH-INTERVAL;VALUE=DURATION:PT1H
X-Robots-Tag:noindex
X-PUBLISHED-TTL:PT1H
BEGIN:VTIMEZONE
TZID:America/New_York
BEGIN:DAYLIGHT
TZOFFSETFROM:-0500
TZOFFSETTO:-0400
TZNAME:EDT
DTSTART:20240310T070000
END:DAYLIGHT
BEGIN:STANDARD
TZOFFSETFROM:-0400
TZOFFSETTO:-0500
TZNAME:EST
DTSTART:20241103T060000
END:STANDARD
BEGIN:DAYLIGHT
TZOFFSETFROM:-0500
TZOFFSETTO:-0400
TZNAME:EDT
DTSTART:20250309T070000
END:DAYLIGHT
BEGIN:STANDARD
TZOFFSETFROM:-0400
TZOFFSETTO:-0500
TZNAME:EST
DTSTART:20251102T060000
END:STANDARD
BEGIN:DAYLIGHT
TZOFFSETFROM:-0500
TZOFFSETTO:-0400
TZNAME:EDT
DTSTART:20260308T070000
END:DAYLIGHT
BEGIN:STANDARD
TZOFFSETFROM:-0400
TZOFFSETTO:-0500
TZNAME:EST
DTSTART:20261101T060000
END:STANDARD
END:VTIMEZONE
BEGIN:VEVENT
DTSTART;TZID=America/New_York:20250331T173000
DTEND;TZID=America/New_York:20250331T173000
DTSTAMP:20260424T012022
CREATED:20250325T161749Z
LAST-MODIFIED:20250325T161749Z
UID:6735-1743442200-1743442200@honors.umd.edu
SUMMARY:The Art of Storytelling featuring Dr. Scott Roberts
DESCRIPTION:Join the BSOS Dean’s Student Advisory Council (DSAC) for “The Art of Storytelling\,” featuring Dr. Scott Roberts\, creator of PSYC123: The Psychology of Storytelling. This event is designed to help students stand out in networking settings by mastering the art of storytelling—an essential skill for making meaningful connections in professional and academic spaces. \nDate: March 31\, 2025\nTime: 5:30 PM\nLocation: Stamp Student Union\, Juan Ramón Jiménez Room
URL:https://honors.umd.edu/event/2025/the-art-of-storytelling-featuring-dr-scott-roberts/
LOCATION:Stamp Student Union\, Stamp Student Union\, College Park\, MD\, 20742\, United States
CATEGORIES:Campus Groups & Activities
ATTACH;FMTTYPE=image/png:https://honors.umd.edu/wp-content/uploads/2025/03/The-Art-of-Storytelling-March-2025.png
END:VEVENT
END:VCALENDAR