BEGIN:VCALENDAR
VERSION:2.0
PRODID:-//University of Maryland Honors College - ECPv6.15.20//NONSGML v1.0//EN
CALSCALE:GREGORIAN
METHOD:PUBLISH
X-WR-CALNAME:University of Maryland Honors College
X-ORIGINAL-URL:https://honors.umd.edu
X-WR-CALDESC:Events for University of Maryland Honors College
REFRESH-INTERVAL;VALUE=DURATION:PT1H
X-Robots-Tag:noindex
X-PUBLISHED-TTL:PT1H
BEGIN:VTIMEZONE
TZID:America/New_York
BEGIN:DAYLIGHT
TZOFFSETFROM:-0500
TZOFFSETTO:-0400
TZNAME:EDT
DTSTART:20240310T070000
END:DAYLIGHT
BEGIN:STANDARD
TZOFFSETFROM:-0400
TZOFFSETTO:-0500
TZNAME:EST
DTSTART:20241103T060000
END:STANDARD
BEGIN:DAYLIGHT
TZOFFSETFROM:-0500
TZOFFSETTO:-0400
TZNAME:EDT
DTSTART:20250309T070000
END:DAYLIGHT
BEGIN:STANDARD
TZOFFSETFROM:-0400
TZOFFSETTO:-0500
TZNAME:EST
DTSTART:20251102T060000
END:STANDARD
BEGIN:DAYLIGHT
TZOFFSETFROM:-0500
TZOFFSETTO:-0400
TZNAME:EDT
DTSTART:20260308T070000
END:DAYLIGHT
BEGIN:STANDARD
TZOFFSETFROM:-0400
TZOFFSETTO:-0500
TZNAME:EST
DTSTART:20261101T060000
END:STANDARD
END:VTIMEZONE
BEGIN:VEVENT
DTSTART;TZID=America/New_York:20250428T183000
DTEND;TZID=America/New_York:20250428T183000
DTSTAMP:20260424T100219
CREATED:20250422T144331Z
LAST-MODIFIED:20250422T144401Z
UID:6994-1745865000-1745865000@honors.umd.edu
SUMMARY:SWANA Heritage Month Closing Gala and Keynote
DESCRIPTION:Music\, delicious food\, celebration\, and more! Join MICA for the 2nd annual SWANA Heritage Month Closing Gala and Dinner\, featuring alumni keynote speaker Andy Shallal – founder and CEO of Busboys & Poets. Show out in cultural or formal attire\, celebrate our community\, and maybe even win some cool prizes. \nEvent details: \n\nMonday\, April 28\, 2025 | 6:30 p.m.\nSamuel Riggs IV Alumni Center | 7801 Alumni Dr\, College Park\, MD 20742
URL:https://honors.umd.edu/event/2025/swana-heritage-month-closing-gala-and-keynote/
LOCATION:Samuel Riggs IV Alumni Center\, 7801 Alumni Drive\, College Park\, MD\, 20742\, United States
CATEGORIES:Campus Groups & Activities
ATTACH;FMTTYPE=image/png:https://honors.umd.edu/wp-content/uploads/2025/04/2025-SWANA-Heritage-Month-Closing-Gala-and-Keynote.png
END:VEVENT
END:VCALENDAR