BEGIN:VCALENDAR
VERSION:2.0
PRODID:-//University of Maryland Honors College - ECPv6.15.20//NONSGML v1.0//EN
CALSCALE:GREGORIAN
METHOD:PUBLISH
X-WR-CALNAME:University of Maryland Honors College
X-ORIGINAL-URL:https://honors.umd.edu
X-WR-CALDESC:Events for University of Maryland Honors College
REFRESH-INTERVAL;VALUE=DURATION:PT1H
X-Robots-Tag:noindex
X-PUBLISHED-TTL:PT1H
BEGIN:VTIMEZONE
TZID:America/New_York
BEGIN:DAYLIGHT
TZOFFSETFROM:-0500
TZOFFSETTO:-0400
TZNAME:EDT
DTSTART:20240310T070000
END:DAYLIGHT
BEGIN:STANDARD
TZOFFSETFROM:-0400
TZOFFSETTO:-0500
TZNAME:EST
DTSTART:20241103T060000
END:STANDARD
BEGIN:DAYLIGHT
TZOFFSETFROM:-0500
TZOFFSETTO:-0400
TZNAME:EDT
DTSTART:20250309T070000
END:DAYLIGHT
BEGIN:STANDARD
TZOFFSETFROM:-0400
TZOFFSETTO:-0500
TZNAME:EST
DTSTART:20251102T060000
END:STANDARD
BEGIN:DAYLIGHT
TZOFFSETFROM:-0500
TZOFFSETTO:-0400
TZNAME:EDT
DTSTART:20260308T070000
END:DAYLIGHT
BEGIN:STANDARD
TZOFFSETFROM:-0400
TZOFFSETTO:-0500
TZNAME:EST
DTSTART:20261101T060000
END:STANDARD
END:VTIMEZONE
BEGIN:VEVENT
DTSTART;TZID=America/New_York:20250328T170000
DTEND;TZID=America/New_York:20250328T180000
DTSTAMP:20260424T044008
CREATED:20250311T135613Z
LAST-MODIFIED:20250311T135613Z
UID:6704-1743181200-1743184800@honors.umd.edu
SUMMARY:Startup Shell: How to Brew Kombucha with Stacey Yaculak
DESCRIPTION:Kick start your fermented drink journey with this kombucha brewing workshop! Learn how to safely culture and brew your own kombucha at home\, master flavor infusions for delicious fruit sodas\, and uncover the cool science behind the magic!
URL:https://honors.umd.edu/event/2025/startup-shell-how-to-brew-kombucha-with-stacey-yaculak/
LOCATION:Startup Shell\, 4462 Stadium Drive Room #1101\, College Park\, MD\, 20742\, United States
CATEGORIES:Campus Groups & Activities
ATTACH;FMTTYPE=image/png:https://honors.umd.edu/wp-content/uploads/2025/03/Shell-Talk-Stacey-Yaculak.png
END:VEVENT
END:VCALENDAR