BEGIN:VCALENDAR
VERSION:2.0
PRODID:-//University of Maryland Honors College - ECPv6.15.20//NONSGML v1.0//EN
CALSCALE:GREGORIAN
METHOD:PUBLISH
X-WR-CALNAME:University of Maryland Honors College
X-ORIGINAL-URL:https://honors.umd.edu
X-WR-CALDESC:Events for University of Maryland Honors College
REFRESH-INTERVAL;VALUE=DURATION:PT1H
X-Robots-Tag:noindex
X-PUBLISHED-TTL:PT1H
BEGIN:VTIMEZONE
TZID:America/New_York
BEGIN:DAYLIGHT
TZOFFSETFROM:-0500
TZOFFSETTO:-0400
TZNAME:EDT
DTSTART:20240310T070000
END:DAYLIGHT
BEGIN:STANDARD
TZOFFSETFROM:-0400
TZOFFSETTO:-0500
TZNAME:EST
DTSTART:20241103T060000
END:STANDARD
BEGIN:DAYLIGHT
TZOFFSETFROM:-0500
TZOFFSETTO:-0400
TZNAME:EDT
DTSTART:20250309T070000
END:DAYLIGHT
BEGIN:STANDARD
TZOFFSETFROM:-0400
TZOFFSETTO:-0500
TZNAME:EST
DTSTART:20251102T060000
END:STANDARD
BEGIN:DAYLIGHT
TZOFFSETFROM:-0500
TZOFFSETTO:-0400
TZNAME:EDT
DTSTART:20260308T070000
END:DAYLIGHT
BEGIN:STANDARD
TZOFFSETFROM:-0400
TZOFFSETTO:-0500
TZNAME:EST
DTSTART:20261101T060000
END:STANDARD
END:VTIMEZONE
BEGIN:VEVENT
DTSTART;TZID=America/New_York:20250313T181500
DTEND;TZID=America/New_York:20250313T191500
DTSTAMP:20260424T092142
CREATED:20250311T135403Z
LAST-MODIFIED:20250311T135403Z
UID:6699-1741889700-1741893300@honors.umd.edu
SUMMARY:Startup Engineering 101: Building Cool Stuff & Making Big Decisions
DESCRIPTION:Join alumni Sheller Wesley Smith for a white boarding session on being a part of engineering leadership at Fragile\, a fast growing SF startup. He’ll cover what it’s like day-to-day to grow an engineering org\, pick the right software design principles\, and selectively put out fires. Plus\, he’ll stick around after the talk to provide advice on joining a startup post-grad. \nSecure your spot by filling out the RSVP form: https://lu.ma/7w83p8hn
URL:https://honors.umd.edu/event/2025/startup-engineering-101-building-cool-stuff-making-big-decisions/
LOCATION:Startup Shell\, 4462 Stadium Drive Room #1101\, College Park\, MD\, 20742\, United States
CATEGORIES:Campus Groups & Activities
ATTACH;FMTTYPE=image/png:https://honors.umd.edu/wp-content/uploads/2025/03/Shell-Talk-Flyer-Wesley-Smith.png
END:VEVENT
END:VCALENDAR