BEGIN:VCALENDAR
VERSION:2.0
PRODID:-//University of Maryland Honors College - ECPv6.15.20//NONSGML v1.0//EN
CALSCALE:GREGORIAN
METHOD:PUBLISH
X-WR-CALNAME:University of Maryland Honors College
X-ORIGINAL-URL:https://honors.umd.edu
X-WR-CALDESC:Events for University of Maryland Honors College
REFRESH-INTERVAL;VALUE=DURATION:PT1H
X-Robots-Tag:noindex
X-PUBLISHED-TTL:PT1H
BEGIN:VTIMEZONE
TZID:America/New_York
BEGIN:DAYLIGHT
TZOFFSETFROM:-0500
TZOFFSETTO:-0400
TZNAME:EDT
DTSTART:20240310T070000
END:DAYLIGHT
BEGIN:STANDARD
TZOFFSETFROM:-0400
TZOFFSETTO:-0500
TZNAME:EST
DTSTART:20241103T060000
END:STANDARD
BEGIN:DAYLIGHT
TZOFFSETFROM:-0500
TZOFFSETTO:-0400
TZNAME:EDT
DTSTART:20250309T070000
END:DAYLIGHT
BEGIN:STANDARD
TZOFFSETFROM:-0400
TZOFFSETTO:-0500
TZNAME:EST
DTSTART:20251102T060000
END:STANDARD
BEGIN:DAYLIGHT
TZOFFSETFROM:-0500
TZOFFSETTO:-0400
TZNAME:EDT
DTSTART:20260308T070000
END:DAYLIGHT
BEGIN:STANDARD
TZOFFSETFROM:-0400
TZOFFSETTO:-0500
TZNAME:EST
DTSTART:20261101T060000
END:STANDARD
END:VTIMEZONE
BEGIN:VEVENT
DTSTART;TZID=America/New_York:20250430T140000
DTEND;TZID=America/New_York:20250430T163000
DTSTAMP:20260424T081220
CREATED:20250402T135126Z
LAST-MODIFIED:20250402T135126Z
UID:6767-1746021600-1746030600@honors.umd.edu
SUMMARY:Seeds of Change: A Film Series on Sustainability and Alternatives
DESCRIPTION:Contemplative Learning and Living (CL&L)\, a graduate student organization\, and the International Education Policy Student Board are thrilled to host Seeds of Change: A Film Series on Sustainability and Alternatives* in April\, featuring three films: \n\n\nPurpose: A Wellbeing Economies Film (4/16)\nWater Is Love: Ripples of Regeneration (4/23)\nThe Seeds of Vandana Shiva (4/30)\n\n\nThe first two screenings will be followed by a Q&A session with representative(s) from the respective production team\, and the last screening will be followed by a discussion among ourselves as a wrap-up of the series. A key objective of this initiative is to spark interdisciplinary dialogues around sustainability and sustainable development.\n\nAll undergraduate & graduate students\, faculty\, and staff are welcome!\n \nLocation: Room 2105 McKeldin Library\nDates & Time: Wednesdays 4/16\, 4/23\, 4/30\, 2:00-4:30PM\nLight refreshments will be served\nEach screening is limited to 30 attendees\n \nRSVP here now!\n*This initiative is generously sponsored by the Office of Sustainability.\n\nIf you have any questions or concerns\, please reach out to Joanna at smok@umd.edu.
URL:https://honors.umd.edu/event/2025/seeds-of-change-a-film-series-on-sustainability-and-alternatives-3/
LOCATION:McKeldin Library\, College Park\, MD\, 20742\, United States
CATEGORIES:Campus Groups & Activities
ATTACH;FMTTYPE=image/png:https://honors.umd.edu/wp-content/uploads/2025/04/Seeds-of-Change-film-series.png
END:VEVENT
END:VCALENDAR