BEGIN:VCALENDAR
VERSION:2.0
PRODID:-//University of Maryland Honors College - ECPv6.15.20//NONSGML v1.0//EN
CALSCALE:GREGORIAN
METHOD:PUBLISH
X-WR-CALNAME:University of Maryland Honors College
X-ORIGINAL-URL:https://honors.umd.edu
X-WR-CALDESC:Events for University of Maryland Honors College
REFRESH-INTERVAL;VALUE=DURATION:PT1H
X-Robots-Tag:noindex
X-PUBLISHED-TTL:PT1H
BEGIN:VTIMEZONE
TZID:America/New_York
BEGIN:DAYLIGHT
TZOFFSETFROM:-0500
TZOFFSETTO:-0400
TZNAME:EDT
DTSTART:20240310T070000
END:DAYLIGHT
BEGIN:STANDARD
TZOFFSETFROM:-0400
TZOFFSETTO:-0500
TZNAME:EST
DTSTART:20241103T060000
END:STANDARD
BEGIN:DAYLIGHT
TZOFFSETFROM:-0500
TZOFFSETTO:-0400
TZNAME:EDT
DTSTART:20250309T070000
END:DAYLIGHT
BEGIN:STANDARD
TZOFFSETFROM:-0400
TZOFFSETTO:-0500
TZNAME:EST
DTSTART:20251102T060000
END:STANDARD
BEGIN:DAYLIGHT
TZOFFSETFROM:-0500
TZOFFSETTO:-0400
TZNAME:EDT
DTSTART:20260308T070000
END:DAYLIGHT
BEGIN:STANDARD
TZOFFSETFROM:-0400
TZOFFSETTO:-0500
TZNAME:EST
DTSTART:20261101T060000
END:STANDARD
END:VTIMEZONE
BEGIN:VEVENT
DTSTART;TZID=America/New_York:20250227T120000
DTEND;TZID=America/New_York:20250227T120000
DTSTAMP:20260424T175928
CREATED:20250218T151344Z
LAST-MODIFIED:20250218T152009Z
UID:6612-1740657600-1740657600@honors.umd.edu
SUMMARY:Pre-Med and Pre-Dent Workshop at Nyumburu Cultural Center
DESCRIPTION:The Nyumburu Cultural Center is hosting an important PRE-MED and PRE-DENT workshop for students who are interested in going to Medical School and Dental School! If you have an interest in nursing school you may attend as well. Meet with a seasoned professional who will provide you with the information you need to increase your chances of getting into professional school on your first application—everything from pre-requisite courses to the 5 Pillars of your application. \nThe workshop is free; RSVP at solomon@umd.edu.
URL:https://honors.umd.edu/event/2025/pre-med-and-pre-dent-workshop-at-nyumburu-cultural-center/
LOCATION:Nyumburu Cultural Center\, 4018 Campus Drive\, College Park\, MD\, 20742\, United States
CATEGORIES:Info Sessions
ATTACH;FMTTYPE=image/jpeg:https://honors.umd.edu/wp-content/uploads/2025/02/pre-med-pre-dent-nyumburu-1.jpg
END:VEVENT
END:VCALENDAR