BEGIN:VCALENDAR
VERSION:2.0
PRODID:-//University of Maryland Honors College - ECPv6.15.20//NONSGML v1.0//EN
CALSCALE:GREGORIAN
METHOD:PUBLISH
X-WR-CALNAME:University of Maryland Honors College
X-ORIGINAL-URL:https://honors.umd.edu
X-WR-CALDESC:Events for University of Maryland Honors College
REFRESH-INTERVAL;VALUE=DURATION:PT1H
X-Robots-Tag:noindex
X-PUBLISHED-TTL:PT1H
BEGIN:VTIMEZONE
TZID:America/New_York
BEGIN:DAYLIGHT
TZOFFSETFROM:-0500
TZOFFSETTO:-0400
TZNAME:EDT
DTSTART:20240310T070000
END:DAYLIGHT
BEGIN:STANDARD
TZOFFSETFROM:-0400
TZOFFSETTO:-0500
TZNAME:EST
DTSTART:20241103T060000
END:STANDARD
BEGIN:DAYLIGHT
TZOFFSETFROM:-0500
TZOFFSETTO:-0400
TZNAME:EDT
DTSTART:20250309T070000
END:DAYLIGHT
BEGIN:STANDARD
TZOFFSETFROM:-0400
TZOFFSETTO:-0500
TZNAME:EST
DTSTART:20251102T060000
END:STANDARD
BEGIN:DAYLIGHT
TZOFFSETFROM:-0500
TZOFFSETTO:-0400
TZNAME:EDT
DTSTART:20260308T070000
END:DAYLIGHT
BEGIN:STANDARD
TZOFFSETFROM:-0400
TZOFFSETTO:-0500
TZNAME:EST
DTSTART:20261101T060000
END:STANDARD
END:VTIMEZONE
BEGIN:VEVENT
DTSTART;TZID=America/New_York:20250926T170000
DTEND;TZID=America/New_York:20250927T170000
DTSTAMP:20260423T180514
CREATED:20250828T164255Z
LAST-MODIFIED:20250828T164746Z
UID:7679-1758906000-1758992400@honors.umd.edu
SUMMARY:Mid-Atlantic Campus Communities Regional Conference
DESCRIPTION:Join the Heterodox Academy (HxA) Mid-Atlantic Regional Conference at the University of Maryland’s College Park Campus\, a nationally recognized arboretum and botanical garden. \nThis gathering will bring together HxA Campus Communities from Maryland\, Virginia\, and North Carolina\, and welcomes faculty\, staff\, and students from any institution of higher education across the region—whether you’re already an HxA member steeped in the HxA way or just “HxA curious.”
URL:https://honors.umd.edu/event/2025/mid-atlantic-campus-communities-regional-conference/
LOCATION:Smith School of Business\, 7621 Mowatt Ln\, College Park\, MD\, 20742\, United States
CATEGORIES:Conferences & Symposia
ATTACH;FMTTYPE=image/jpeg:https://honors.umd.edu/wp-content/uploads/2025/08/HxA-Fall-Regional-Conference-flyer-1.jpg
END:VEVENT
END:VCALENDAR