BEGIN:VCALENDAR
VERSION:2.0
PRODID:-//University of Maryland Honors College - ECPv6.15.20//NONSGML v1.0//EN
CALSCALE:GREGORIAN
METHOD:PUBLISH
X-WR-CALNAME:University of Maryland Honors College
X-ORIGINAL-URL:https://honors.umd.edu
X-WR-CALDESC:Events for University of Maryland Honors College
REFRESH-INTERVAL;VALUE=DURATION:PT1H
X-Robots-Tag:noindex
X-PUBLISHED-TTL:PT1H
BEGIN:VTIMEZONE
TZID:America/New_York
BEGIN:DAYLIGHT
TZOFFSETFROM:-0500
TZOFFSETTO:-0400
TZNAME:EDT
DTSTART:20240310T070000
END:DAYLIGHT
BEGIN:STANDARD
TZOFFSETFROM:-0400
TZOFFSETTO:-0500
TZNAME:EST
DTSTART:20241103T060000
END:STANDARD
BEGIN:DAYLIGHT
TZOFFSETFROM:-0500
TZOFFSETTO:-0400
TZNAME:EDT
DTSTART:20250309T070000
END:DAYLIGHT
BEGIN:STANDARD
TZOFFSETFROM:-0400
TZOFFSETTO:-0500
TZNAME:EST
DTSTART:20251102T060000
END:STANDARD
BEGIN:DAYLIGHT
TZOFFSETFROM:-0500
TZOFFSETTO:-0400
TZNAME:EDT
DTSTART:20260308T070000
END:DAYLIGHT
BEGIN:STANDARD
TZOFFSETFROM:-0400
TZOFFSETTO:-0500
TZNAME:EST
DTSTART:20261101T060000
END:STANDARD
END:VTIMEZONE
BEGIN:VEVENT
DTSTART;VALUE=DATE:20250929
DTEND;VALUE=DATE:20251004
DTSTAMP:20260423T193236
CREATED:20250916T144613Z
LAST-MODIFIED:20250916T144638Z
UID:7808-1759104000-1759535999@honors.umd.edu
SUMMARY:Mental Health Awareness Week
DESCRIPTION:The Mental Health Coalition invites you to Mental Health Awareness Week Sept. 29 – Oct. 3. There will be a full week of FUN and FREE programming to explore and improve mental health. Now\, more than ever\, is the right time to improve your mental health\, celebrate self-care\, and STAMP out stigma. \nWith a variety of events involving plant-decorating\, mental health screenings\, celebrity Q&A\, crafts\, and more—there is something for everyone! And don’t forget to check out the Self-Care Fair with therapy dogs\, inflatables\, massages\, giveaways\, free food\, and self-care activities. \nFor details about all of the week’s events\, visit go.umd.edu/mhaw25.
URL:https://honors.umd.edu/event/2025/mental-health-awareness-week-4/
CATEGORIES:Campus Groups & Activities
ATTACH;FMTTYPE=image/webp:https://honors.umd.edu/wp-content/uploads/2025/09/Basic-MHAW-Square.webp
END:VEVENT
END:VCALENDAR