BEGIN:VCALENDAR
VERSION:2.0
PRODID:-//University of Maryland Honors College - ECPv6.15.20//NONSGML v1.0//EN
CALSCALE:GREGORIAN
METHOD:PUBLISH
X-WR-CALNAME:University of Maryland Honors College
X-ORIGINAL-URL:https://honors.umd.edu
X-WR-CALDESC:Events for University of Maryland Honors College
REFRESH-INTERVAL;VALUE=DURATION:PT1H
X-Robots-Tag:noindex
X-PUBLISHED-TTL:PT1H
BEGIN:VTIMEZONE
TZID:America/New_York
BEGIN:DAYLIGHT
TZOFFSETFROM:-0500
TZOFFSETTO:-0400
TZNAME:EDT
DTSTART:20240310T070000
END:DAYLIGHT
BEGIN:STANDARD
TZOFFSETFROM:-0400
TZOFFSETTO:-0500
TZNAME:EST
DTSTART:20241103T060000
END:STANDARD
BEGIN:DAYLIGHT
TZOFFSETFROM:-0500
TZOFFSETTO:-0400
TZNAME:EDT
DTSTART:20250309T070000
END:DAYLIGHT
BEGIN:STANDARD
TZOFFSETFROM:-0400
TZOFFSETTO:-0500
TZNAME:EST
DTSTART:20251102T060000
END:STANDARD
BEGIN:DAYLIGHT
TZOFFSETFROM:-0500
TZOFFSETTO:-0400
TZNAME:EDT
DTSTART:20260308T070000
END:DAYLIGHT
BEGIN:STANDARD
TZOFFSETFROM:-0400
TZOFFSETTO:-0500
TZNAME:EST
DTSTART:20261101T060000
END:STANDARD
END:VTIMEZONE
BEGIN:VEVENT
DTSTART;TZID=America/New_York:20250328T100000
DTEND;TZID=America/New_York:20250328T133000
DTSTAMP:20260424T061415
CREATED:20250325T162300Z
LAST-MODIFIED:20250325T162316Z
UID:6738-1743156000-1743168600@honors.umd.edu
SUMMARY:Hope\, Healing\, and Mobilizing Against Hate
DESCRIPTION:You are invited to join the next gathering of the Hope\, Healing\, and Mobilizing Against Hate community at UMD on Friday\, March 28 from 10 a.m.-1:30 p.m. (lunch included) in the Stamp Student Union Prince George’s Room. This group of students\, faculty\, and staff committed to all forms of social justice creates a space for people wherever you are in your journey in and towards racial and social justice\, whether just beginning or having been in the work for your whole life. \nThis event will offer a few key opportunities: \n\nto get to know each other better and build trust and connection across campus coalitions;\nto show an ethic of care and love during this time;\nto break out of our silos;\nto build capacity for this particular chapter of the work towards racial justice; and\nto center taking care of our bodies during this time.\n\nThis session will be facilitated by Rev. Shige Sakurai (they/them) and will focus on the ways that rituals\, dreams\, art\, and discernment can help to deepen our sense of purpose and imagine a better future. \nEveryone is welcome. Space is limited; first come\, first enrolled. \nAny questions? Email Beth at bdc1@umd.edu. \nThis session is sponsored by the Anti-Black Racism Initiative\, the Division of Student Affairs\, the School of Public Health\, the College of Information\, the Department of Sociology\, the School of Public Policy\, the College of Education\, the University Libraries\, College Park Scholars\, Bias Incident Support Services (BISS)\, and the Graduate School.
URL:https://honors.umd.edu/event/2025/hope-healing-and-mobilizing-against-hate/
LOCATION:Stamp Student Union\, Stamp Student Union\, College Park\, MD\, 20742\, United States
CATEGORIES:Campus Groups & Activities
ATTACH;FMTTYPE=image/png:https://honors.umd.edu/wp-content/uploads/2022/05/HC-colors-default-post-image.png
END:VEVENT
END:VCALENDAR