BEGIN:VCALENDAR
VERSION:2.0
PRODID:-//University of Maryland Honors College - ECPv6.15.20//NONSGML v1.0//EN
CALSCALE:GREGORIAN
METHOD:PUBLISH
X-WR-CALNAME:University of Maryland Honors College
X-ORIGINAL-URL:https://honors.umd.edu
X-WR-CALDESC:Events for University of Maryland Honors College
REFRESH-INTERVAL;VALUE=DURATION:PT1H
X-Robots-Tag:noindex
X-PUBLISHED-TTL:PT1H
BEGIN:VTIMEZONE
TZID:America/New_York
BEGIN:DAYLIGHT
TZOFFSETFROM:-0500
TZOFFSETTO:-0400
TZNAME:EDT
DTSTART:20240310T070000
END:DAYLIGHT
BEGIN:STANDARD
TZOFFSETFROM:-0400
TZOFFSETTO:-0500
TZNAME:EST
DTSTART:20241103T060000
END:STANDARD
BEGIN:DAYLIGHT
TZOFFSETFROM:-0500
TZOFFSETTO:-0400
TZNAME:EDT
DTSTART:20250309T070000
END:DAYLIGHT
BEGIN:STANDARD
TZOFFSETFROM:-0400
TZOFFSETTO:-0500
TZNAME:EST
DTSTART:20251102T060000
END:STANDARD
BEGIN:DAYLIGHT
TZOFFSETFROM:-0500
TZOFFSETTO:-0400
TZNAME:EDT
DTSTART:20260308T070000
END:DAYLIGHT
BEGIN:STANDARD
TZOFFSETFROM:-0400
TZOFFSETTO:-0500
TZNAME:EST
DTSTART:20261101T060000
END:STANDARD
END:VTIMEZONE
BEGIN:VEVENT
DTSTART;TZID=America/New_York:20250219T110000
DTEND;TZID=America/New_York:20250219T150000
DTSTAMP:20260425T111400
CREATED:20250127T170132Z
LAST-MODIFIED:20250211T165903Z
UID:6415-1739962800-1739977200@honors.umd.edu
SUMMARY:Honors Ice Cream Social - Valentine's Day
DESCRIPTION:Join us for our Honors College Ice Cream Social on Wednesday\, February 12\, from 11 a.m. to 3 p.m. in Anne Arundel! We will have pre-scooped flavors from the Maryland Dairy (including dairy-free and kosher options). We will also serve hot chocolate and have Valentine’s Day-themed activities for you to enjoy. \nNOTE: The date was moved from February 12 to February 10 because of inclement weather.
URL:https://honors.umd.edu/event/2025/honors-ice-cream-social-valentines-day/
LOCATION:Anne Arundel Hall\, Anne Arundel Hall\, College Park\, MD\, 20742\, United States
CATEGORIES:Honors Community Events
ATTACH;FMTTYPE=image/png:https://honors.umd.edu/wp-content/uploads/2025/01/February-Ice-Cream-Social-Flier.png
END:VEVENT
END:VCALENDAR