BEGIN:VCALENDAR
VERSION:2.0
PRODID:-//University of Maryland Honors College - ECPv6.15.20//NONSGML v1.0//EN
CALSCALE:GREGORIAN
METHOD:PUBLISH
X-WR-CALNAME:University of Maryland Honors College
X-ORIGINAL-URL:https://honors.umd.edu
X-WR-CALDESC:Events for University of Maryland Honors College
REFRESH-INTERVAL;VALUE=DURATION:PT1H
X-Robots-Tag:noindex
X-PUBLISHED-TTL:PT1H
BEGIN:VTIMEZONE
TZID:America/New_York
BEGIN:DAYLIGHT
TZOFFSETFROM:-0500
TZOFFSETTO:-0400
TZNAME:EDT
DTSTART:20240310T070000
END:DAYLIGHT
BEGIN:STANDARD
TZOFFSETFROM:-0400
TZOFFSETTO:-0500
TZNAME:EST
DTSTART:20241103T060000
END:STANDARD
BEGIN:DAYLIGHT
TZOFFSETFROM:-0500
TZOFFSETTO:-0400
TZNAME:EDT
DTSTART:20250309T070000
END:DAYLIGHT
BEGIN:STANDARD
TZOFFSETFROM:-0400
TZOFFSETTO:-0500
TZNAME:EST
DTSTART:20251102T060000
END:STANDARD
BEGIN:DAYLIGHT
TZOFFSETFROM:-0500
TZOFFSETTO:-0400
TZNAME:EDT
DTSTART:20260308T070000
END:DAYLIGHT
BEGIN:STANDARD
TZOFFSETFROM:-0400
TZOFFSETTO:-0500
TZNAME:EST
DTSTART:20261101T060000
END:STANDARD
END:VTIMEZONE
BEGIN:VEVENT
DTSTART;TZID=America/New_York:20251001T190000
DTEND;TZID=America/New_York:20251001T200000
DTSTAMP:20260425T091947
CREATED:20250923T154806Z
LAST-MODIFIED:20250923T155628Z
UID:7927-1759345200-1759348800@honors.umd.edu
SUMMARY:Honors College info session
DESCRIPTION:The Honors College admissions staff will host virtual information sessions in October to provide insights into both the Honors College program and the admission process. These sessions will be held on: \n\nWednesday\, October 1\, 7-8 p.m. EST\nMonday\, October 6\, 6-7 p.m. EST\nTuesday\, October 21\, 7-8 p.m. EST\nThursday\, October 23\, 6-7 p.m. EST\n\nAll sessions will feature the same presentation\, with plenty of time for Q&A. Please join any of these sessions via Zoom.
URL:https://honors.umd.edu/event/2025/honors-college-info-session/
LOCATION:Online
CATEGORIES:Info Sessions
ATTACH;FMTTYPE=image/png:https://honors.umd.edu/wp-content/uploads/2022/05/HC-colors-default-post-image.png
END:VEVENT
END:VCALENDAR