BEGIN:VCALENDAR
VERSION:2.0
PRODID:-//University of Maryland Honors College - ECPv6.15.20//NONSGML v1.0//EN
CALSCALE:GREGORIAN
METHOD:PUBLISH
X-WR-CALNAME:University of Maryland Honors College
X-ORIGINAL-URL:https://honors.umd.edu
X-WR-CALDESC:Events for University of Maryland Honors College
REFRESH-INTERVAL;VALUE=DURATION:PT1H
X-Robots-Tag:noindex
X-PUBLISHED-TTL:PT1H
BEGIN:VTIMEZONE
TZID:America/New_York
BEGIN:DAYLIGHT
TZOFFSETFROM:-0500
TZOFFSETTO:-0400
TZNAME:EDT
DTSTART:20240310T070000
END:DAYLIGHT
BEGIN:STANDARD
TZOFFSETFROM:-0400
TZOFFSETTO:-0500
TZNAME:EST
DTSTART:20241103T060000
END:STANDARD
BEGIN:DAYLIGHT
TZOFFSETFROM:-0500
TZOFFSETTO:-0400
TZNAME:EDT
DTSTART:20250309T070000
END:DAYLIGHT
BEGIN:STANDARD
TZOFFSETFROM:-0400
TZOFFSETTO:-0500
TZNAME:EST
DTSTART:20251102T060000
END:STANDARD
BEGIN:DAYLIGHT
TZOFFSETFROM:-0500
TZOFFSETTO:-0400
TZNAME:EDT
DTSTART:20260308T070000
END:DAYLIGHT
BEGIN:STANDARD
TZOFFSETFROM:-0400
TZOFFSETTO:-0500
TZNAME:EST
DTSTART:20261101T060000
END:STANDARD
END:VTIMEZONE
BEGIN:VEVENT
DTSTART;TZID=America/New_York:20250916T170000
DTEND;TZID=America/New_York:20250916T180000
DTSTAMP:20260423T193108
CREATED:20250909T144913Z
LAST-MODIFIED:20250909T145019Z
UID:7733-1758042000-1758045600@honors.umd.edu
SUMMARY:Honors Ambassadors info session
DESCRIPTION:Are you interested in working with Honors students across the different living-learning programs and being a resource for prospective students who want to learn more about the Honors College? The Honors College is committed to recruiting a group of academically talented\, diverse\, and unique students to campus each year and our current students are a powerful resource for attracting prospective students to apply to the University.  \nWe will be hosting our last information session:\n\n\nNEXT TUESDAY\, September 16 at 5-6PM (Anne Arundel Hall Classroom 0120 – Basement floor).\n\n\nFor consideration\, please submit this application by Sunday\, September 21 at 11:59PM.\n \nIf you have any questions\, feel free to contact the HA Leadership Team at honorsambassadors1@umd.edu.
URL:https://honors.umd.edu/event/2025/honors-ambassadors-info-session-2/
LOCATION:Anne Arundel Hall\, Anne Arundel Hall\, College Park\, MD\, 20742\, United States
CATEGORIES:Honors Community Events
ATTACH;FMTTYPE=image/png:https://honors.umd.edu/wp-content/uploads/2025/09/Honors-Ambassadors-Fall-2025.png
END:VEVENT
END:VCALENDAR