BEGIN:VCALENDAR
VERSION:2.0
PRODID:-//University of Maryland Honors College - ECPv6.15.20//NONSGML v1.0//EN
CALSCALE:GREGORIAN
METHOD:PUBLISH
X-WR-CALNAME:University of Maryland Honors College
X-ORIGINAL-URL:https://honors.umd.edu
X-WR-CALDESC:Events for University of Maryland Honors College
REFRESH-INTERVAL;VALUE=DURATION:PT1H
X-Robots-Tag:noindex
X-PUBLISHED-TTL:PT1H
BEGIN:VTIMEZONE
TZID:America/New_York
BEGIN:DAYLIGHT
TZOFFSETFROM:-0500
TZOFFSETTO:-0400
TZNAME:EDT
DTSTART:20240310T070000
END:DAYLIGHT
BEGIN:STANDARD
TZOFFSETFROM:-0400
TZOFFSETTO:-0500
TZNAME:EST
DTSTART:20241103T060000
END:STANDARD
BEGIN:DAYLIGHT
TZOFFSETFROM:-0500
TZOFFSETTO:-0400
TZNAME:EDT
DTSTART:20250309T070000
END:DAYLIGHT
BEGIN:STANDARD
TZOFFSETFROM:-0400
TZOFFSETTO:-0500
TZNAME:EST
DTSTART:20251102T060000
END:STANDARD
BEGIN:DAYLIGHT
TZOFFSETFROM:-0500
TZOFFSETTO:-0400
TZNAME:EDT
DTSTART:20260308T070000
END:DAYLIGHT
BEGIN:STANDARD
TZOFFSETFROM:-0400
TZOFFSETTO:-0500
TZNAME:EST
DTSTART:20261101T060000
END:STANDARD
END:VTIMEZONE
BEGIN:VEVENT
DTSTART;TZID=America/New_York:20250214T120000
DTEND;TZID=America/New_York:20250214T150000
DTSTAMP:20260425T080547
CREATED:20250204T194233Z
LAST-MODIFIED:20250204T194233Z
UID:6507-1739534400-1739545200@honors.umd.edu
SUMMARY:Douglass Day 2025
DESCRIPTION:Celebrate Frederick Douglass’s birthday and Black History Month by preserving a rich collection of African American history by helping to digitize/transcribe important records.\n\n\n\n\nWhen: February 14\,  12-3pm\nWhere: Michelle Smith Collaboratory for Visual Culture in the Art-Sociology Building\, Dept. of Art History and Archaeology\nWhat you need: A laptop (spares will be provided)\nSnacks: Bagels\, coffee\, and birthday cake!
URL:https://honors.umd.edu/event/2025/douglass-day-2025/
LOCATION:Art-Sociology Building\, 3834 Campus Dr\, College Park\, MD\, 20742\, United States
CATEGORIES:Campus Groups & Activities
ATTACH;FMTTYPE=image/png:https://honors.umd.edu/wp-content/uploads/2025/02/Douglass-Day-Flyer.png
END:VEVENT
END:VCALENDAR