BEGIN:VCALENDAR
VERSION:2.0
PRODID:-//University of Maryland Honors College - ECPv6.15.20//NONSGML v1.0//EN
CALSCALE:GREGORIAN
METHOD:PUBLISH
X-WR-CALNAME:University of Maryland Honors College
X-ORIGINAL-URL:https://honors.umd.edu
X-WR-CALDESC:Events for University of Maryland Honors College
REFRESH-INTERVAL;VALUE=DURATION:PT1H
X-Robots-Tag:noindex
X-PUBLISHED-TTL:PT1H
BEGIN:VTIMEZONE
TZID:America/New_York
BEGIN:DAYLIGHT
TZOFFSETFROM:-0500
TZOFFSETTO:-0400
TZNAME:EDT
DTSTART:20240310T070000
END:DAYLIGHT
BEGIN:STANDARD
TZOFFSETFROM:-0400
TZOFFSETTO:-0500
TZNAME:EST
DTSTART:20241103T060000
END:STANDARD
BEGIN:DAYLIGHT
TZOFFSETFROM:-0500
TZOFFSETTO:-0400
TZNAME:EDT
DTSTART:20250309T070000
END:DAYLIGHT
BEGIN:STANDARD
TZOFFSETFROM:-0400
TZOFFSETTO:-0500
TZNAME:EST
DTSTART:20251102T060000
END:STANDARD
BEGIN:DAYLIGHT
TZOFFSETFROM:-0500
TZOFFSETTO:-0400
TZNAME:EDT
DTSTART:20260308T070000
END:DAYLIGHT
BEGIN:STANDARD
TZOFFSETFROM:-0400
TZOFFSETTO:-0500
TZNAME:EST
DTSTART:20261101T060000
END:STANDARD
END:VTIMEZONE
BEGIN:VEVENT
DTSTART;TZID=America/New_York:20250328T173000
DTEND;TZID=America/New_York:20250328T173000
DTSTAMP:20260424T030751
CREATED:20250325T160905Z
LAST-MODIFIED:20250325T160905Z
UID:6731-1743183000-1743183000@honors.umd.edu
SUMMARY:Black Honors Caucus Movie Night
DESCRIPTION:Hey Honors freshmen! Ready for a fun and hilarious night? Join the Black Honors Caucus for Movie Night in the La Plata Hall Multipurpose Room on Friday\, March 28\, at 5:30 PM! \nBHC will be screening the comedy classic White Chicks\, so get ready to laugh\, relax\, and enjoy great company—all while indulging in FREE food! This is the perfect chance to meet new friends\, connect with the BHC community\, and take a well-deserved break.
URL:https://honors.umd.edu/event/2025/black-honors-caucus-movie-night/
LOCATION:La Plata Hall\, 8160 Farm Dr\, College Park\, MD\, 20742\, United States
CATEGORIES:Honors Community Events
ATTACH;FMTTYPE=image/jpeg:https://honors.umd.edu/wp-content/uploads/2025/03/BHC-Movie-Night-Mar-2025.jpeg
END:VEVENT
END:VCALENDAR