BEGIN:VCALENDAR
VERSION:2.0
PRODID:-//University of Maryland Honors College - ECPv6.15.20//NONSGML v1.0//EN
CALSCALE:GREGORIAN
METHOD:PUBLISH
X-WR-CALNAME:University of Maryland Honors College
X-ORIGINAL-URL:https://honors.umd.edu
X-WR-CALDESC:Events for University of Maryland Honors College
REFRESH-INTERVAL;VALUE=DURATION:PT1H
X-Robots-Tag:noindex
X-PUBLISHED-TTL:PT1H
BEGIN:VTIMEZONE
TZID:America/New_York
BEGIN:DAYLIGHT
TZOFFSETFROM:-0500
TZOFFSETTO:-0400
TZNAME:EDT
DTSTART:20230312T070000
END:DAYLIGHT
BEGIN:STANDARD
TZOFFSETFROM:-0400
TZOFFSETTO:-0500
TZNAME:EST
DTSTART:20231105T060000
END:STANDARD
BEGIN:DAYLIGHT
TZOFFSETFROM:-0500
TZOFFSETTO:-0400
TZNAME:EDT
DTSTART:20240310T070000
END:DAYLIGHT
BEGIN:STANDARD
TZOFFSETFROM:-0400
TZOFFSETTO:-0500
TZNAME:EST
DTSTART:20241103T060000
END:STANDARD
BEGIN:DAYLIGHT
TZOFFSETFROM:-0500
TZOFFSETTO:-0400
TZNAME:EDT
DTSTART:20250309T070000
END:DAYLIGHT
BEGIN:STANDARD
TZOFFSETFROM:-0400
TZOFFSETTO:-0500
TZNAME:EST
DTSTART:20251102T060000
END:STANDARD
END:VTIMEZONE
BEGIN:VEVENT
DTSTART;VALUE=DATE:20241122
DTEND;VALUE=DATE:20241124
DTSTAMP:20260425T080515
CREATED:20241112T195851Z
LAST-MODIFIED:20241112T195954Z
UID:6281-1732233600-1732406399@honors.umd.edu
SUMMARY:Terp Sleep Out
DESCRIPTION:Join the School of Public Health Community Thrives Lab and HLTH391 for a Terp Sleep Out event at the School of Public Health from November 22-23. The purpose of the event is to raise awareness about homelessness and encourage UMD students to get involved. The event will include educational presentations\, free food\, activities\, a documentary\, and resources on how to take action. Then the group will “sleep out” in a classroom overnight to increase empathy for homeless youth. During these events\, they will be hosting activities in which they will create welcome bags that have nonperishable food items\, personal hygiene items\, and more.
URL:https://honors.umd.edu/event/2024/terp-sleep-out/
LOCATION:School of Public Health\, 4200 Valley Dr\, College Park\, MD\, 20742\, United States
ATTACH;FMTTYPE=image/jpeg:https://honors.umd.edu/wp-content/uploads/2024/11/Terp-Sleep-Out-Poster-1.jpg
END:VEVENT
END:VCALENDAR