BEGIN:VCALENDAR
VERSION:2.0
PRODID:-//University of Maryland Honors College - ECPv6.15.20//NONSGML v1.0//EN
CALSCALE:GREGORIAN
METHOD:PUBLISH
X-WR-CALNAME:University of Maryland Honors College
X-ORIGINAL-URL:https://honors.umd.edu
X-WR-CALDESC:Events for University of Maryland Honors College
REFRESH-INTERVAL;VALUE=DURATION:PT1H
X-Robots-Tag:noindex
X-PUBLISHED-TTL:PT1H
BEGIN:VTIMEZONE
TZID:America/New_York
BEGIN:DAYLIGHT
TZOFFSETFROM:-0500
TZOFFSETTO:-0400
TZNAME:EDT
DTSTART:20230312T070000
END:DAYLIGHT
BEGIN:STANDARD
TZOFFSETFROM:-0400
TZOFFSETTO:-0500
TZNAME:EST
DTSTART:20231105T060000
END:STANDARD
BEGIN:DAYLIGHT
TZOFFSETFROM:-0500
TZOFFSETTO:-0400
TZNAME:EDT
DTSTART:20240310T070000
END:DAYLIGHT
BEGIN:STANDARD
TZOFFSETFROM:-0400
TZOFFSETTO:-0500
TZNAME:EST
DTSTART:20241103T060000
END:STANDARD
BEGIN:DAYLIGHT
TZOFFSETFROM:-0500
TZOFFSETTO:-0400
TZNAME:EDT
DTSTART:20250309T070000
END:DAYLIGHT
BEGIN:STANDARD
TZOFFSETFROM:-0400
TZOFFSETTO:-0500
TZNAME:EST
DTSTART:20251102T060000
END:STANDARD
END:VTIMEZONE
BEGIN:VEVENT
DTSTART;TZID=America/New_York:20240425T130000
DTEND;TZID=America/New_York:20240425T150000
DTSTAMP:20260423T193102
CREATED:20240424T134905Z
LAST-MODIFIED:20240424T134905Z
UID:5303-1714050000-1714057200@honors.umd.edu
SUMMARY:Smith Plus 1 Info Session
DESCRIPTION:Join the Smith School of Business for a Smith Plus 1 Info Session to learn more about getting started on your master’s degree as an undergraduate student. Save time and money on your degree while gaining skill sets in business. No registration is required for this event. \nThe session will take place in McKeldin Library\, Room 2105. \nUnable to attend? You can schedule a one-on-one consultation with a Plus 1 advisor via Calendly.
URL:https://honors.umd.edu/event/2024/smith-plus-1-info-session/
LOCATION:McKeldin Library\, College Park\, MD\, 20742\, United States
CATEGORIES:Campus Groups & Activities
ATTACH;FMTTYPE=image/jpeg:https://honors.umd.edu/wp-content/uploads/2024/04/Honors-College-Plus-1-enewsletter-graphic.jpg
END:VEVENT
END:VCALENDAR