BEGIN:VCALENDAR
VERSION:2.0
PRODID:-//University of Maryland Honors College - ECPv6.15.20//NONSGML v1.0//EN
CALSCALE:GREGORIAN
METHOD:PUBLISH
X-WR-CALNAME:University of Maryland Honors College
X-ORIGINAL-URL:https://honors.umd.edu
X-WR-CALDESC:Events for University of Maryland Honors College
REFRESH-INTERVAL;VALUE=DURATION:PT1H
X-Robots-Tag:noindex
X-PUBLISHED-TTL:PT1H
BEGIN:VTIMEZONE
TZID:America/New_York
BEGIN:DAYLIGHT
TZOFFSETFROM:-0500
TZOFFSETTO:-0400
TZNAME:EDT
DTSTART:20230312T070000
END:DAYLIGHT
BEGIN:STANDARD
TZOFFSETFROM:-0400
TZOFFSETTO:-0500
TZNAME:EST
DTSTART:20231105T060000
END:STANDARD
BEGIN:DAYLIGHT
TZOFFSETFROM:-0500
TZOFFSETTO:-0400
TZNAME:EDT
DTSTART:20240310T070000
END:DAYLIGHT
BEGIN:STANDARD
TZOFFSETFROM:-0400
TZOFFSETTO:-0500
TZNAME:EST
DTSTART:20241103T060000
END:STANDARD
BEGIN:DAYLIGHT
TZOFFSETFROM:-0500
TZOFFSETTO:-0400
TZNAME:EDT
DTSTART:20250309T070000
END:DAYLIGHT
BEGIN:STANDARD
TZOFFSETFROM:-0400
TZOFFSETTO:-0500
TZNAME:EST
DTSTART:20251102T060000
END:STANDARD
END:VTIMEZONE
BEGIN:VEVENT
DTSTART;TZID=America/New_York:20240426T130000
DTEND;TZID=America/New_York:20240426T160000
DTSTAMP:20260423T180955
CREATED:20240409T181747Z
LAST-MODIFIED:20240409T181747Z
UID:5176-1714136400-1714147200@honors.umd.edu
SUMMARY:DMV Student Journal Symposium for Literary and Research Publications
DESCRIPTION:Join the DMV Student Journal Symposium for Literary and Research Publications\, the first of a proposed annual symposium of undergraduate and graduate student-led journals. This event is a chance for anyone interested in student publications to engage in interactive workshops and roundtable conversations\, hear from panel discussions and a plenary speaker\, and connect with fellow university journals in the DC area. The symposium fosters conversation on best editorial\, leadership\, and community practices and discover how to support student publications. Topics will include sustainable leadership\, ethics\, diversity\, and navigating AI in submissions. \nThe symposium will be held Friday\, April 26\, 2024\, 1:00-4:00 pm\, at the National Churchill Leadership Center\, Gelman Library\, at the George Washington University’s Foggy Bottom Campus. The event is free; pre-registration is required. \nCall for Panelists; Are you part of an undergraduate or graduate journal team interested in speaking on a panel? Have an additional topic you’d like covered? Other questions? Please fill out our Call for Panelists\, or let me know our interest via email. \nStudent Journal Symposium co-organizers: \n\nJaylee Davis\, GW CCAS Class of 2024; Editor-in-Chief\, GW Undergraduate Review\nDominique McIndoe\, GW MPS in Publishing Graduate\, Spring 2024\nAmelia Nason\, GW CCAS Class of 2027\nJohn W. Warren\, Director and Associate Professor\, GW Graduate Program in Publishing\n\nHosted by the GW Graduate Program in Publishing and the College of Professional Studies\, George Washington University\, in partnership with GW Libraries and Academic Innovation. \nSponsored by the Society for Scholarly Publishing \nFriday\, April 26\, 1:00-4:00 PM\nNational Churchill Leadership Center\, Gelman Library\, George Washington University Foggy Bottom Campus
URL:https://honors.umd.edu/event/2024/dmv-student-journal-symposium-for-literary-and-research-publications/
LOCATION:George Washington University
CATEGORIES:Conferences & Symposia
ATTACH;FMTTYPE=image/jpeg:https://honors.umd.edu/wp-content/uploads/2024/04/DMV-Student-Journal-Symposium-GWU.jpeg
END:VEVENT
END:VCALENDAR