BEGIN:VCALENDAR
VERSION:2.0
PRODID:-//University of Maryland Honors College - ECPv6.15.20//NONSGML v1.0//EN
CALSCALE:GREGORIAN
METHOD:PUBLISH
X-WR-CALNAME:University of Maryland Honors College
X-ORIGINAL-URL:https://honors.umd.edu
X-WR-CALDESC:Events for University of Maryland Honors College
REFRESH-INTERVAL;VALUE=DURATION:PT1H
X-Robots-Tag:noindex
X-PUBLISHED-TTL:PT1H
BEGIN:VTIMEZONE
TZID:America/New_York
BEGIN:DAYLIGHT
TZOFFSETFROM:-0500
TZOFFSETTO:-0400
TZNAME:EDT
DTSTART:20220313T070000
END:DAYLIGHT
BEGIN:STANDARD
TZOFFSETFROM:-0400
TZOFFSETTO:-0500
TZNAME:EST
DTSTART:20221106T060000
END:STANDARD
BEGIN:DAYLIGHT
TZOFFSETFROM:-0500
TZOFFSETTO:-0400
TZNAME:EDT
DTSTART:20230312T070000
END:DAYLIGHT
BEGIN:STANDARD
TZOFFSETFROM:-0400
TZOFFSETTO:-0500
TZNAME:EST
DTSTART:20231105T060000
END:STANDARD
BEGIN:DAYLIGHT
TZOFFSETFROM:-0500
TZOFFSETTO:-0400
TZNAME:EDT
DTSTART:20240310T070000
END:DAYLIGHT
BEGIN:STANDARD
TZOFFSETFROM:-0400
TZOFFSETTO:-0500
TZNAME:EST
DTSTART:20241103T060000
END:STANDARD
END:VTIMEZONE
BEGIN:VEVENT
DTSTART;TZID=America/New_York:20230915T100000
DTEND;TZID=America/New_York:20230915T110000
DTSTAMP:20260425T111135
CREATED:20230905T141046Z
LAST-MODIFIED:20230905T141046Z
UID:4254-1694772000-1694775600@honors.umd.edu
SUMMARY:Sadat Forum with Mary Robinson and Kenneth Roth
DESCRIPTION:Participate in the Sadat Forum on “Israel/Palestine\, Human Rights\, and the Quest for Liberal International Order” with Mary Robinson; Chair of The Elders\, Former President of Ireland\, and Former U.N. High Commissioner for Human Rights\, and Kenneth Roth; Senior Fellow of the HKS Carr Center at Harvard University\, Visiting Professor at Princeton University\, and Executive Director of the Human Rights Watch from 1993-2022\, moderated by Shibley Telhami. The event will include introductory remarks by President Darryll Pines of the University of Maryland\, College Park\, and Dean Susan Rivera of the College of Behavioral and Social Sciences and will take place online on Friday\, September 15 at 10 a.m. \nTo RSVP\, please visit: https://go.umd.edu/SadatForum_Fall2023
URL:https://honors.umd.edu/event/2023/sadat-forum-with-mary-robinson-and-kenneth-roth/
LOCATION:Online
CATEGORIES:Campus Groups & Activities
ATTACH;FMTTYPE=image/png:https://honors.umd.edu/wp-content/uploads/2023/09/Sadat-Forum-Fall-2023.png
END:VEVENT
END:VCALENDAR