BEGIN:VCALENDAR
VERSION:2.0
PRODID:-//University of Maryland Honors College - ECPv6.15.20//NONSGML v1.0//EN
CALSCALE:GREGORIAN
METHOD:PUBLISH
X-WR-CALNAME:University of Maryland Honors College
X-ORIGINAL-URL:https://honors.umd.edu
X-WR-CALDESC:Events for University of Maryland Honors College
REFRESH-INTERVAL;VALUE=DURATION:PT1H
X-Robots-Tag:noindex
X-PUBLISHED-TTL:PT1H
BEGIN:VTIMEZONE
TZID:America/New_York
BEGIN:DAYLIGHT
TZOFFSETFROM:-0500
TZOFFSETTO:-0400
TZNAME:EDT
DTSTART:20220313T070000
END:DAYLIGHT
BEGIN:STANDARD
TZOFFSETFROM:-0400
TZOFFSETTO:-0500
TZNAME:EST
DTSTART:20221106T060000
END:STANDARD
BEGIN:DAYLIGHT
TZOFFSETFROM:-0500
TZOFFSETTO:-0400
TZNAME:EDT
DTSTART:20230312T070000
END:DAYLIGHT
BEGIN:STANDARD
TZOFFSETFROM:-0400
TZOFFSETTO:-0500
TZNAME:EST
DTSTART:20231105T060000
END:STANDARD
BEGIN:DAYLIGHT
TZOFFSETFROM:-0500
TZOFFSETTO:-0400
TZNAME:EDT
DTSTART:20240310T070000
END:DAYLIGHT
BEGIN:STANDARD
TZOFFSETFROM:-0400
TZOFFSETTO:-0500
TZNAME:EST
DTSTART:20241103T060000
END:STANDARD
END:VTIMEZONE
BEGIN:VEVENT
DTSTART;TZID=America/New_York:20230506T100000
DTEND;TZID=America/New_York:20230506T170000
DTSTAMP:20260425T083011
CREATED:20230327T141206Z
LAST-MODIFIED:20230327T141321Z
UID:3675-1683367200-1683392400@honors.umd.edu
SUMMARY:Mid-Atlantic Research Day
DESCRIPTION:The Mid-Atlantic Research Day is a collaborative event between the BMES of Johns Hopkins University and the University of Maryland\, College Park where students are able to showcase their research in a poster format (and compete against others for a $5000 prize pool). This year\, it will be held on the JHU campus on May 6\, 2023\, from 10 AM to 5 PM. Abstract submissions are due on March 31\, 2023. The Ficshell Department of Bioengineering is working to arrange transportation for this event. During this all-day conference\, students from all domains in the biomedical sciences can showcase their cutting-edge research and have the opportunity to participate in networking events\, discover new internships\, hear keynote speakers\, engage in career-building workshops\, enjoy free catered food\, and attend a mixer. This event will be sponsored by AstraZeneca. \n\nRegistration Form: Click Here to Register\nAbstract Submission Form: Click Here to Submit an Abstract\nFAQ page: Click here for FAQ and tentative schedule
URL:https://honors.umd.edu/event/2023/mid-atlantic-research-day/
LOCATION:Johns Hopkins University Homewood Campus\, 3101 Wyman Park Drive\, Baltimore\, MD\, 21218\, United States
CATEGORIES:Campus Groups & Activities
ATTACH;FMTTYPE=image/png:https://honors.umd.edu/wp-content/uploads/2023/03/Mid-Atlantic-Research-Day.png
END:VEVENT
END:VCALENDAR