BEGIN:VCALENDAR
VERSION:2.0
PRODID:-//University of Maryland Honors College - ECPv6.15.20//NONSGML v1.0//EN
CALSCALE:GREGORIAN
METHOD:PUBLISH
X-WR-CALNAME:University of Maryland Honors College
X-ORIGINAL-URL:https://honors.umd.edu
X-WR-CALDESC:Events for University of Maryland Honors College
REFRESH-INTERVAL;VALUE=DURATION:PT1H
X-Robots-Tag:noindex
X-PUBLISHED-TTL:PT1H
BEGIN:VTIMEZONE
TZID:America/New_York
BEGIN:DAYLIGHT
TZOFFSETFROM:-0500
TZOFFSETTO:-0400
TZNAME:EDT
DTSTART:20220313T070000
END:DAYLIGHT
BEGIN:STANDARD
TZOFFSETFROM:-0400
TZOFFSETTO:-0500
TZNAME:EST
DTSTART:20221106T060000
END:STANDARD
BEGIN:DAYLIGHT
TZOFFSETFROM:-0500
TZOFFSETTO:-0400
TZNAME:EDT
DTSTART:20230312T070000
END:DAYLIGHT
BEGIN:STANDARD
TZOFFSETFROM:-0400
TZOFFSETTO:-0500
TZNAME:EST
DTSTART:20231105T060000
END:STANDARD
BEGIN:DAYLIGHT
TZOFFSETFROM:-0500
TZOFFSETTO:-0400
TZNAME:EDT
DTSTART:20240310T070000
END:DAYLIGHT
BEGIN:STANDARD
TZOFFSETFROM:-0400
TZOFFSETTO:-0500
TZNAME:EST
DTSTART:20241103T060000
END:STANDARD
END:VTIMEZONE
BEGIN:VEVENT
DTSTART;TZID=America/New_York:20230927T180000
DTEND;TZID=America/New_York:20230927T190000
DTSTAMP:20260425T080547
CREATED:20230926T190211Z
LAST-MODIFIED:20230926T190238Z
UID:4375-1695837600-1695841200@honors.umd.edu
SUMMARY:Jump Trading at Startup Shell
DESCRIPTION:Interested in learning about the traits of highly effective teams and individuals? Looking to gain insight from someone who has worked at Facebook\, Google\, and a past startup? \nStartup Shell is hosting Steve Shaw\, an engineer at Jump Trading\, to talk to the community about the traits of highly effective teams and individuals at failed startups and bloated big tech companies. \nSteve is currently an engineer at Jump Trading working on network performance engineering. He’s worked at Facebook when it was cool\, Google and a failed B-round startup. He will do an autopsy of how said startup failed to find product market fit\, technology and organizational successes/pitfalls\, scaling challenges\, and what tech and behaviors are useful to borrow (or avoid) from big tech. \nWhen: Wednesday\, September 27 from 6:00 p.m. to 7:00 p.m. EDT\nWhere: Startup Shell\, 4462 Stadium Drive\, Room 1101
URL:https://honors.umd.edu/event/2023/jump-trading-at-startup-shell/
LOCATION:Startup Shell\, 4462 Stadium Drive Room #1101\, College Park\, MD\, 20742\, United States
CATEGORIES:Campus Groups & Activities
ATTACH;FMTTYPE=image/jpeg:https://honors.umd.edu/wp-content/uploads/2022/09/Startup-Shell-1.jpg
END:VEVENT
END:VCALENDAR