BEGIN:VCALENDAR
VERSION:2.0
PRODID:-//University of Maryland Honors College - ECPv6.15.20//NONSGML v1.0//EN
CALSCALE:GREGORIAN
METHOD:PUBLISH
X-WR-CALNAME:University of Maryland Honors College
X-ORIGINAL-URL:https://honors.umd.edu
X-WR-CALDESC:Events for University of Maryland Honors College
REFRESH-INTERVAL;VALUE=DURATION:PT1H
X-Robots-Tag:noindex
X-PUBLISHED-TTL:PT1H
BEGIN:VTIMEZONE
TZID:America/New_York
BEGIN:DAYLIGHT
TZOFFSETFROM:-0500
TZOFFSETTO:-0400
TZNAME:EDT
DTSTART:20220313T070000
END:DAYLIGHT
BEGIN:STANDARD
TZOFFSETFROM:-0400
TZOFFSETTO:-0500
TZNAME:EST
DTSTART:20221106T060000
END:STANDARD
BEGIN:DAYLIGHT
TZOFFSETFROM:-0500
TZOFFSETTO:-0400
TZNAME:EDT
DTSTART:20230312T070000
END:DAYLIGHT
BEGIN:STANDARD
TZOFFSETFROM:-0400
TZOFFSETTO:-0500
TZNAME:EST
DTSTART:20231105T060000
END:STANDARD
BEGIN:DAYLIGHT
TZOFFSETFROM:-0500
TZOFFSETTO:-0400
TZNAME:EDT
DTSTART:20240310T070000
END:DAYLIGHT
BEGIN:STANDARD
TZOFFSETFROM:-0400
TZOFFSETTO:-0500
TZNAME:EST
DTSTART:20241103T060000
END:STANDARD
END:VTIMEZONE
BEGIN:VEVENT
DTSTART;TZID=America/New_York:20230913T180000
DTEND;TZID=America/New_York:20230913T190000
DTSTAMP:20260425T092915
CREATED:20230905T135843Z
LAST-MODIFIED:20230905T143740Z
UID:4244-1694628000-1694631600@honors.umd.edu
SUMMARY:Honors Ambassadors info session (online)
DESCRIPTION:The Honors College is recruiting Honors Ambassadors! These students represent their living-learning program (LLP) at University recruitment events. Your voice is valuable and helpful to prospective students. \n\n\n\nAs an HA\, you’ll develop public speaking\, time management and communication skills. We have a variety of leadership opportunities\, as well as free t-shirts\, food and other Honors merch! \n\n\n\nQuestions? \n\n\n\n\nVisit this link for more information on the Honors Ambassador organization.\n\n\n\nAttend an info session on 9/13 at 6PM (Zoom link: bit.ly/HAinfo913) or 9/20 at 4:30PM in the Anne Arundel Basement\n\n\n\nEmail honorsambassadors1@umd.edu
URL:https://honors.umd.edu/event/2023/honors-ambassadors-info-session/
LOCATION:Online
CATEGORIES:Honors Community Events
ATTACH;FMTTYPE=image/png:https://honors.umd.edu/wp-content/uploads/2023/09/Honors-Ambassadors-2023.png
END:VEVENT
END:VCALENDAR