BEGIN:VCALENDAR
VERSION:2.0
PRODID:-//University of Maryland Honors College - ECPv6.15.20//NONSGML v1.0//EN
CALSCALE:GREGORIAN
METHOD:PUBLISH
X-WR-CALNAME:University of Maryland Honors College
X-ORIGINAL-URL:https://honors.umd.edu
X-WR-CALDESC:Events for University of Maryland Honors College
REFRESH-INTERVAL;VALUE=DURATION:PT1H
X-Robots-Tag:noindex
X-PUBLISHED-TTL:PT1H
BEGIN:VTIMEZONE
TZID:America/New_York
BEGIN:DAYLIGHT
TZOFFSETFROM:-0500
TZOFFSETTO:-0400
TZNAME:EDT
DTSTART:20220313T070000
END:DAYLIGHT
BEGIN:STANDARD
TZOFFSETFROM:-0400
TZOFFSETTO:-0500
TZNAME:EST
DTSTART:20221106T060000
END:STANDARD
BEGIN:DAYLIGHT
TZOFFSETFROM:-0500
TZOFFSETTO:-0400
TZNAME:EDT
DTSTART:20230312T070000
END:DAYLIGHT
BEGIN:STANDARD
TZOFFSETFROM:-0400
TZOFFSETTO:-0500
TZNAME:EST
DTSTART:20231105T060000
END:STANDARD
BEGIN:DAYLIGHT
TZOFFSETFROM:-0500
TZOFFSETTO:-0400
TZNAME:EDT
DTSTART:20240310T070000
END:DAYLIGHT
BEGIN:STANDARD
TZOFFSETFROM:-0400
TZOFFSETTO:-0500
TZNAME:EST
DTSTART:20241103T060000
END:STANDARD
END:VTIMEZONE
BEGIN:VEVENT
DTSTART;VALUE=DATE:20230908
DTEND;VALUE=DATE:20230909
DTSTAMP:20260425T080500
CREATED:20230822T173907Z
LAST-MODIFIED:20230822T173948Z
UID:4116-1694131200-1694217599@honors.umd.edu
SUMMARY:First Look Fair
DESCRIPTION:Whatever your thing is—sports\, theater\, community service\, beekeeping\, or just about anything else you can imagine—you can find it at the First Look Fair! \nThe First Look Fair is one of the longest-running involvement traditions at the University of Maryland. First Look Fair hosts over 650 student clubs and organizations and campus departments! The festive atmosphere is the perfect place to gather resources\, learn more about how to get involved and connect with other students with similar interests.
URL:https://honors.umd.edu/event/2023/first-look-fair-2/
LOCATION:McKeldin Mall\, McKeldin Mall\, College Park\, MD\, 20742\, United States
CATEGORIES:Campus Groups & Activities
ATTACH;FMTTYPE=image/jpeg:https://honors.umd.edu/wp-content/uploads/2023/08/First-Look-Fair-2023-scaled.jpeg
END:VEVENT
END:VCALENDAR